BEGIN:VCALENDAR
VERSION:2.0
PRODID:-//Ujumise Spordiklubi - ECPv6.14.0//NONSGML v1.0//EN
CALSCALE:GREGORIAN
METHOD:PUBLISH
X-ORIGINAL-URL:https://ujumine.ee
X-WR-CALDESC:Events for Ujumise Spordiklubi
REFRESH-INTERVAL;VALUE=DURATION:PT1H
X-Robots-Tag:noindex
X-PUBLISHED-TTL:PT1H
BEGIN:VTIMEZONE
TZID:Europe/Moscow
BEGIN:STANDARD
TZOFFSETFROM:+0300
TZOFFSETTO:+0300
TZNAME:MSK
DTSTART:20260101T000000
END:STANDARD
END:VTIMEZONE
BEGIN:VEVENT
DTSTART;TZID=Europe/Moscow:20261017T113000
DTEND;TZID=Europe/Moscow:20261017T180000
DTSTAMP:20260425T063921
CREATED:20251229T063447Z
LAST-MODIFIED:20251229T063447Z
UID:16506-1792236600-1792260000@ujumine.ee
SUMMARY:Speedo Räimeralli III etapp 17.10.2026
DESCRIPTION:Juhend SIIN
URL:https://ujumine.ee/event/speedo-raimeralli-iii-etapp-17-10-2026/
LOCATION:Aura veekeskus (25m)\, Tartu\, Estonia
CATEGORIES:Võistlused
END:VEVENT
BEGIN:VEVENT
DTSTART;TZID=Europe/Moscow:20261022T080000
DTEND;TZID=Europe/Moscow:20261101T170000
DTSTAMP:20260425T063921
CREATED:20251128T232427Z
LAST-MODIFIED:20251224T084652Z
UID:16325-1792656000-1793552400@ujumine.ee
SUMMARY:2026 sügislaager Calellas\, Hispaanias
DESCRIPTION:Treener Diana\nLaagri maksumus 1000 EUR.\n\nSisaldab: majutuse\, söögid 3 x päevas\, treeningud\, lennupiletid\, transfeeri lennujaamast hotelli
URL:https://ujumine.ee/event/2026_calella_laager/
LOCATION:Calella\, Carrer del Turisme 106\, Calella\, Barcelona\, 08370\, Spain
CATEGORIES:Üritused
END:VEVENT
BEGIN:VEVENT
DTSTART;TZID=Europe/Moscow:20261024T080000
DTEND;TZID=Europe/Moscow:20261025T170000
DTSTAMP:20260425T063921
CREATED:20260226T104432Z
LAST-MODIFIED:20260226T104432Z
UID:16690-1792828800-1792947600@ujumine.ee
SUMMARY:Fast  & Far - Int. swim meet Tartus (50 m)
DESCRIPTION:
URL:https://ujumine.ee/event/fast-far-int-swim-meet-tartus-50-m/
LOCATION:Aura veekeskus (50m)\, Tartu\, Estonia
CATEGORIES:Võistlused
END:VEVENT
BEGIN:VEVENT
DTSTART;VALUE=DATE:20261031
DTEND;VALUE=DATE:20261101
DTSTAMP:20260425T063921
CREATED:20260109T123021Z
LAST-MODIFIED:20260109T123021Z
UID:16592-1793404800-1793491199@ujumine.ee
SUMMARY:Sprindi mitmevõistlus
DESCRIPTION:
URL:https://ujumine.ee/event/sprindi-mitmevoistlus/
LOCATION:Wiru Spordikeskus\, Järveküla tee 44\, Kohtla-Järve\, Ida-Virumaa\, 30321\, Estonia
CATEGORIES:Võistlused
END:VEVENT
BEGIN:VEVENT
DTSTART;TZID=Europe/Moscow:20261031T080000
DTEND;TZID=Europe/Moscow:20261113T170000
DTSTAMP:20260425T063921
CREATED:20260109T123156Z
LAST-MODIFIED:20260109T123156Z
UID:16594-1793433600-1794589200@ujumine.ee
SUMMARY:Noorte Olümpiamängud
DESCRIPTION:
URL:https://ujumine.ee/event/noorte-olumpiamangud/
LOCATION:Dakar\, Dakar\, Senegal
CATEGORIES:Võistlused
END:VEVENT
END:VCALENDAR