BEGIN:VCALENDAR
VERSION:2.0
PRODID:-//Ujumise Spordiklubi - ECPv6.14.0//NONSGML v1.0//EN
CALSCALE:GREGORIAN
METHOD:PUBLISH
X-WR-CALNAME:Ujumise Spordiklubi
X-ORIGINAL-URL:https://ujumine.ee
X-WR-CALDESC:Events for Ujumise Spordiklubi
REFRESH-INTERVAL;VALUE=DURATION:PT1H
X-Robots-Tag:noindex
X-PUBLISHED-TTL:PT1H
BEGIN:VTIMEZONE
TZID:Europe/Moscow
BEGIN:STANDARD
TZOFFSETFROM:+0300
TZOFFSETTO:+0300
TZNAME:MSK
DTSTART:20260101T000000
END:STANDARD
END:VTIMEZONE
BEGIN:VEVENT
DTSTART;VALUE=DATE:20260201
DTEND;VALUE=DATE:20260202
DTSTAMP:20260425T002809
CREATED:20251203T122009Z
LAST-MODIFIED:20260131T084224Z
UID:16361-1769904000-1769990399@ujumine.ee
SUMMARY:Uju ja Jookse II etapp 2025/2026
DESCRIPTION:Uju ja Jookse II etapi JUHEND\nÜldjuhend SIIN\nLIVE video ülekande SIIN (1.02.2026) \nVõistluste tulemused LIVE SIIN\n\n\nMahavõtmine ja muudatuste tegemine lõppenud (kuni R\, 30. jaanuar kl 16:00 info@ujumine.ee)\nRegistreerumine lõppenud (kuni T\, 27.01.2026 kl 23:59)\n\n\n\nUJUMINE         Aura Keskus (Turu 10) \n* Ujumise entry list ja vahetused leiad 31. jaanuaril 2026 SIIN  \nJOOKSMINE    Tartu Ülikooli Spordihoone kergejõustiku maneežis (Ujula 4) \nAJAKAVA \n\n10:00 Aura Keskus avab uksed. Võistluse registratuur (sularahas tasumise võimalus)\n11:00  Ujumise stardid – start veest\, 2 ujujat ühel rajal\, nooremad enne.\nOrienteeruv ajakava:\n\n\n\n\n·       11:00 – 50 m vabalt – lapsed E \n·       ca 11:15 – 150 m vabalt – lapsed C ja D\n·       ca 11:45 – 200 m vabalt – noored B \n·       ca 12:10 – 300 m vabalt – juuniorid\, noored A\, U23\n\n\n\n\n13:30 TÜ kergejõustiku hall soojenduseks avatud\, jooksu kiipide kätte andmine\n14:30 Jooksu stardid (nooremad alustavad).\n\nNB! naelikute kasutamine keelatud\n\n\n\n\n\n\n·       0\,5 km – lapsed E \n·       1\,0 km – lapsed D ja C\n·       1\,5 km – noored B \n·       2\,0 km – noored A\, juuniorid\, U23\n\n\n\nDISTANTSID ja VANUSED\n Lapsed E (2017 ja nooremad):  * Ujumine 50 m + Jooks 500 m (paremust ei selgitata) \nLapsed C (2013-14)\, Lapsed D (2015-16):    Ujumine 150m + Jooks 1 km \nNoored B (2011-12):  Ujumine 200m + Jooks 1\,5 km\nJuuniorid (2007-08)\, Noored A (2009-10): Ujumine 300m + Jooks 2 km \nU23 (2003-06): Ujumine 300m + Jooks 2 km \nAUTASUSTATAKSE Lapsed C ja D; Noored B ja A\, Juunioride ja U23 kolme paremat naist ja meest. Paremusjärjestus = ujumise + jooksu aeg. *Loosiauhinnad \n** Kõik E-klassi lõpetajad saavad meeles peetud\, paremust ei selgitata.   \n OSALUSTASU    15€\n       Klubidele esitatakse arved 29. jaanuari seisuga\, soovijatel võimalik tasuda kohapeal sularahas. \n      Üksikvõistlejatel tasuda kohapeal sularahas või ülekandega 29. jaanuariks \nUjumise Spordiklubi pangakonto EE632200221025128610\, Swedbank. Selgitusse: võistleja nimi + Uju ja Jookse. \nKORRALDAJAD  \n\nUjumise Spordiklubi (kontakt Kaja Haljaste)  +372 51 17 839  info@ujumine.ee\nEesti Triatloni Liit – info@triatlon.ee\nAjavõtt: Jaak Israel +372 5569 8844 https://timesport.ee/\nPeakohtunik: Mart Leo Ruus
URL:https://ujumine.ee/event/uju-jookse-2/
LOCATION:Aura veekeskus (25m)\, Tartu\, Estonia
CATEGORIES:Võistlused
END:VEVENT
BEGIN:VEVENT
DTSTART;VALUE=DATE:20260207
DTEND;VALUE=DATE:20260208
DTSTAMP:20260425T002809
CREATED:20260109T115120Z
LAST-MODIFIED:20260109T115143Z
UID:16543-1770422400-1770508799@ujumine.ee
SUMMARY:EUL Noortesarja ProSwim etapp
DESCRIPTION:Üldjuhend SIIN \nProSwim etapi juhend SIIN \n\nT ja P 2012\nT ja P 2013\nT ja P 2014\n\nEelregamine 2. veebruariks 2026
URL:https://ujumine.ee/event/eul-noortesarja-proswim-etapp/
LOCATION:Aura veekeskus (25m)\, Tartu\, Estonia
CATEGORIES:Võistlused
END:VEVENT
BEGIN:VEVENT
DTSTART;TZID=Europe/Moscow:20260214T090000
DTEND;TZID=Europe/Moscow:20260215T193000
DTSTAMP:20260425T002809
CREATED:20251229T065045Z
LAST-MODIFIED:20260213T200856Z
UID:16513-1771059600-1771183800@ujumine.ee
SUMMARY:Zirk Swim Cup
DESCRIPTION:Juhend SIIN\n\n03.02.2026\, kell 23:59 – ülesandmiste tähtaeg\n10.02.2026 – Dorpat Hotellis toitlustamise broneerimise tähtaeg\n12.02.2026\, kell 23:59 – mahavõtmiste tähtaeg\n\nBasseiniplaan\, EST \nKlubide juhtkiri\, EST \nZSC_2026_preliminary_schedule \nZSC_2026_startlist
URL:https://ujumine.ee/event/zirk-swim-cup-2/
LOCATION:Aura veekeskus (50m)\, Tartu\, Estonia
CATEGORIES:Võistlused
END:VEVENT
BEGIN:VEVENT
DTSTART;TZID=Europe/Moscow:20260220T100000
DTEND;TZID=Europe/Moscow:20260222T170000
DTSTAMP:20260425T002809
CREATED:20251229T065205Z
LAST-MODIFIED:20251229T065205Z
UID:16516-1771581600-1771779600@ujumine.ee
SUMMARY:Latvian Open Championships
DESCRIPTION:
URL:https://ujumine.ee/event/latvian-open-championships/
LOCATION:Riia\, Kipsala\, Kipsalas iela 5\, Riia\, Kipsala\, Latvia
CATEGORIES:Võistlused
END:VEVENT
BEGIN:VEVENT
DTSTART;VALUE=DATE:20260228
DTEND;VALUE=DATE:20260301
DTSTAMP:20260425T002809
CREATED:20260225T165348Z
LAST-MODIFIED:20260228T081806Z
UID:16682-1772236800-1772323199@ujumine.ee
SUMMARY:Coop Eesti omavalitsuste 41. talimängud - UJUMINE
DESCRIPTION:Ujumise juhend SIIN \n\n2026_stardiprotokoll\n2026_aladele registreerujad\n\nLaupäev\, 28. veebruar 2026.a.\nVõistluste algus 12:00\, soojendus 11:20-11:55\n1. 100 m vabalt T\, P\, N\, M\, N 35\, M 40 //Autasustamine ala 1\n2. 100 m rinnuli T\, P\, N\, M\, N 35\, M 40 //Autasustamine ala 2\n3. 100 m selili T\, P\, N\, M\, N 35\, M 40 //Autasustamine ala 3\n4. 4×50 m vabalt 2 N ABS+2 M ABS \n 
URL:https://ujumine.ee/event/coop-eesti-omavalitsuste-41-talimangud-ujumine/
CATEGORIES:Võistlused
END:VEVENT
END:VCALENDAR