BEGIN:VCALENDAR
VERSION:2.0
PRODID:-//Ujumise Spordiklubi - ECPv6.14.0//NONSGML v1.0//EN
CALSCALE:GREGORIAN
METHOD:PUBLISH
X-WR-CALNAME:Ujumise Spordiklubi
X-ORIGINAL-URL:https://ujumine.ee
X-WR-CALDESC:Events for Ujumise Spordiklubi
REFRESH-INTERVAL;VALUE=DURATION:PT1H
X-Robots-Tag:noindex
X-PUBLISHED-TTL:PT1H
BEGIN:VTIMEZONE
TZID:Europe/Moscow
BEGIN:STANDARD
TZOFFSETFROM:+0300
TZOFFSETTO:+0300
TZNAME:MSK
DTSTART:20250101T000000
END:STANDARD
END:VTIMEZONE
BEGIN:VEVENT
DTSTART;TZID=Europe/Moscow:20251202T080000
DTEND;TZID=Europe/Moscow:20251207T170000
DTSTAMP:20260425T034720
CREATED:20251203T092326Z
LAST-MODIFIED:20251203T092326Z
UID:16357-1764662400-1765126800@ujumine.ee
SUMMARY:Euroopa lühiraja meistrivõistlused ujumises
DESCRIPTION:Eelujumised algavad kell 11.00 (Eesti aeg)\nFinaalid algavad kell 20.00 (Eesti aeg)\n\nTulemused SIIN\nVõistlust kannab üle Duo Media telekanalitel Duo 5 ja Kanal 7 vene keelse kommentaariga.\nDuo 5 otsepilti näeb ka Postimees Sport vahendusel\nVõistluste ametlik koduleht SIIN \nEurovisioon Sport\nEUL võistlusest SIIN
URL:https://ujumine.ee/event/euroopa-luhiraja-meistrivoistlused-ujumises/
CATEGORIES:Võistlused
END:VEVENT
BEGIN:VEVENT
DTSTART;TZID=Europe/Moscow:20251206T080000
DTEND;TZID=Europe/Moscow:20251206T170000
DTSTAMP:20260425T034720
CREATED:20251205T011119Z
LAST-MODIFIED:20251205T011119Z
UID:16372-1765008000-1765040400@ujumine.ee
SUMMARY:Eesti mastersujumise lühiraja meistrivõistlused
DESCRIPTION:Juhend SIIN
URL:https://ujumine.ee/event/eesti-mastersujumise-luhiraja-meistrivoistlused/
LOCATION:Nõmme ujula\, Vabaduse pst. 156\, Tallinn\, Estonia
CATEGORIES:Võistlused
END:VEVENT
BEGIN:VEVENT
DTSTART;TZID=Europe/Moscow:20251206T113000
DTEND;TZID=Europe/Moscow:20251206T180000
DTSTAMP:20260425T034720
CREATED:20251130T200459Z
LAST-MODIFIED:20251205T135804Z
UID:16328-1765020600-1765044000@ujumine.ee
SUMMARY:Räimeralli finaal
DESCRIPTION:Ujumise Spordiklubi finalistid SIIN (1.dets seis)\nVõistluste LIVE SIIN\nStardiprotokoll SIIN\nOsalejate nimekirjad SIIN (28.11.2025 seis)\nJuhend SIIN\n\nOsalustasu 25 EUR \n\nHommikune osa algab kell 11:30\, soojendus 10:45\nÕhtune osa algab 16:30\, soojendus 15:45\n\n*Finaalis stardivad kõik vanuseklassid mõlemas osas! \nVaata oma ala aega!
URL:https://ujumine.ee/event/raimeralli-finaal/
LOCATION:Aura veekeskus (50m)\, Tartu\, Estonia
CATEGORIES:Võistlused
END:VEVENT
BEGIN:VEVENT
DTSTART;TZID=Europe/Moscow:20251213T100000
DTEND;TZID=Europe/Moscow:20251213T170000
DTSTAMP:20260425T034720
CREATED:20251205T010506Z
LAST-MODIFIED:20251205T011212Z
UID:16369-1765620000-1765645200@ujumine.ee
SUMMARY:Laste Karikas -  finaal
DESCRIPTION:Juhend SIIN
URL:https://ujumine.ee/event/laste-karikas-finaal/
LOCATION:Sõle Spordikeskus\, Sõle 40a\, Tallinn\, 10317
CATEGORIES:Võistlused
END:VEVENT
BEGIN:VEVENT
DTSTART;TZID=Europe/Moscow:20251213T110000
DTEND;TZID=Europe/Moscow:20251213T133000
DTSTAMP:20260425T034720
CREATED:20250917T073715Z
LAST-MODIFIED:20251213T140045Z
UID:16195-1765623600-1765632600@ujumine.ee
SUMMARY:Tartumaa Meistrivõistlused ujumises 2025
DESCRIPTION:Laupäeval\, 13. detsembril 2025\nAura Keskuses\, Turu 10\, Tartu \nJUHEND \nVõistlejate nimekiri (klubide kaupa) – SIIN\nAladel osalejad vanusegruppide kaupa – SIIN\nStardiprotokoll (avaldatakse 12.12.25 kell 19:00) – SIIN\nLive tulemused – SIIN\nTULEMUSED (pdf) \nStardid kl 11:00\, sissepääs alates kl 10:00 (Aura Keskus avab uksed) \nALAD\n1. 50 m vabalt (N ja M)\n2. 50 m rinnuli (N ja M)\n3. 50 m selili (N ja M)\n4. 50 m liblikat (N ja M) \nVANUSEGRUPID:\n1. Noored N ja M kuni s.a. 2011 (kuni 14-aastased)\n2. Põhigrupp N ja M 2010 – 2001 (15 – 24-aastased)\n3. Masters N – 2000 ja varem sündinud (25- aastased ja vanemad)\n4. Masters I M – 2000 – 1986 (25 – 39-aastased)\n5. Masters II M – 1985 ja varem sündinud (40-aastased ja vanemad) \nREGiSTREERUMINE : E\, 08.12.2025\n– swimrankings.net (klubid) või\n– e-post: voistlus@ujumine.ee (nimi\, sünniaeg\, klubi/ kool/ ettevõtte\, alad)\n• Mahavõtmised hiljemalt N\, 11.12.2025 kuni kl. 23:59 \nKONTAKT:\nUjumise Spordiklubi:\nvoistlus@ujumine.ee\n+372 51 17 839 – Kaja Haljaste\nTartumaa Spordiliit:\ninfo@tmsl.ee\n+372 5770 3224 – Martin Thomson
URL:https://ujumine.ee/event/tartumaa-meistrivoistlused-ujumises-2025/
LOCATION:Aura veekeskus (25m)\, Tartu\, Estonia
CATEGORIES:Võistlused
ORGANIZER;CN="Ujumise Spordiklubi":MAILTO:info@ujumine.ee
END:VEVENT
BEGIN:VEVENT
DTSTART;TZID=Europe/Moscow:20251213T140000
DTEND;TZID=Europe/Moscow:20251213T163000
DTSTAMP:20260425T034720
CREATED:20250917T082750Z
LAST-MODIFIED:20251213T140213Z
UID:16202-1765634400-1765643400@ujumine.ee
SUMMARY:Ujumise Spordiklubi talvestardid 2025
DESCRIPTION:Ujumise Spordiklubi TALVESTARDID \nJUHEND\nVõistlejate nimekiri  –  SIIN\nAladel osalejad vanusegruppide kaupa – SIIN\nStardiprotokoll – SIIN\nLive tulemused- SIIN\nTULEMUSED (pdf) \nLaupäev\, 13. detsember 2025\nAura Keskus\, Turu 10\, Tartu \n• STARDID kl. 14:00\, sissepääs alates 13:00 \nPROGRAMM ja VANUSEKLASSID (T ja P) \n1. 25 m vabalt – kuni 2018; 2017; 2016\n2. 25 m rinnuli – kuni s.a 2015\n3. 50 m vabalt – kuni s.a 2014\nAUTASUSTAMINE\n4. 25 m selili – kuni s.a 2018; 2017; 2016\n5. 25 m liblikat – kuni s.a 2015\n6. 50 m selili – kuni s.a 2014\nAUTASUSTAMINE\n7. 2 x 25 m vabalt „lapse ja (vana)vanema teateujumine”\nAUTASUSTAMINE \nREGISTREERUMINE – TREENERI KAUDU!\nE\, 8. detsember treeneritel www.swimrankings.net või\ne-postile voistlus@ujumine.ee: ujuja nimi\, sünniaeg ja alad\, mida soovib ujuda.\nTeateujumised – E\, 8. detsembriks e-postile voistlus@ujumine.ee:
URL:https://ujumine.ee/event/talvestardid2025/
LOCATION:Aura veekeskus (25m)\, Tartu\, Estonia
CATEGORIES:Võistlused
ORGANIZER;CN="Ujumise Spordiklubi":MAILTO:info@ujumine.ee
END:VEVENT
BEGIN:VEVENT
DTSTART;TZID=Europe/Moscow:20251219T093000
DTEND;TZID=Europe/Moscow:20251221T180000
DTSTAMP:20260425T034720
CREATED:20251125T114418Z
LAST-MODIFIED:20251218T080954Z
UID:16311-1766136600-1766340000@ujumine.ee
SUMMARY:Eesti lühiraja meistrivõistlused ujumises
DESCRIPTION:Juhend SIIN\nNormid: SIIN\nLive-tulemused: SIIN\nAjakava: SIIN\nAladel osalejad: SIIN\n\nMeeste 800 m vabalt ja naiste 1500 m vabalt – Eesti noorte\, juunioride ja absoluudi meistrivõistlused. \nStardimaks 13 EUR start \nUjumise Spordiklubi ööbib Go Shnelli hotellis \n\nEelujumised: stardid kl 9:30\nFinaalid: stardid R ja L kl 17:00\, P 16:00\n\n50 ja 100 m B ja A finaal\n200 m distantsidel A finaal\n400\, 800 ja 1500 m – kiireim vahetus ujub õhtul.
URL:https://ujumine.ee/event/eesti-luhiraja-meistrivoistlused-ujumises/
LOCATION:Sõle Spordikeskus\, Sõle 40a\, Tallinn\, 10317
CATEGORIES:Võistlused
END:VEVENT
END:VCALENDAR