BEGIN:VCALENDAR
VERSION:2.0
PRODID:-//Ujumise Spordiklubi - ECPv6.14.0//NONSGML v1.0//EN
CALSCALE:GREGORIAN
METHOD:PUBLISH
X-WR-CALNAME:Ujumise Spordiklubi
X-ORIGINAL-URL:https://ujumine.ee
X-WR-CALDESC:Events for Ujumise Spordiklubi
REFRESH-INTERVAL;VALUE=DURATION:PT1H
X-Robots-Tag:noindex
X-PUBLISHED-TTL:PT1H
BEGIN:VTIMEZONE
TZID:Europe/Moscow
BEGIN:STANDARD
TZOFFSETFROM:+0300
TZOFFSETTO:+0300
TZNAME:MSK
DTSTART:20240101T000000
END:STANDARD
END:VTIMEZONE
BEGIN:VEVENT
DTSTART;TZID=Europe/Moscow:20241201T080000
DTEND;TZID=Europe/Moscow:20241203T170000
DTSTAMP:20260425T232150
CREATED:20240920T080429Z
LAST-MODIFIED:20241015T070127Z
UID:15007-1733040000-1733245200@ujumine.ee
SUMMARY:Põhjamaade Meistrivõistlused ujumises Vejle (Taani)
DESCRIPTION:Põhjamaade Meistrivõistlused ujumises Vejle (Taani) \n\nJuhend SIIN\nA-normid (täitmise periood 01.09.23-06.10.24)  SIIN\nKandidaadid\n\nMaksumus ca 800 EUR\nA-norm EULi kulul\n\n\n\n 
URL:https://ujumine.ee/event/pohjamaade-meistrivoistlused-ujumises-vejle-taani/
LOCATION:Vejle\, Taani\, Vejle\, Denmark
CATEGORIES:Võistlused
ATTACH;FMTTYPE=image/jpeg:https://ujumine.ee/wp-content/uploads/2018/12/eesti_koondis_Pohjamaade_juunioride-_MV.jpg
END:VEVENT
BEGIN:VEVENT
DTSTART;TZID=Europe/Moscow:20241207T100000
DTEND;TZID=Europe/Moscow:20241207T170000
DTSTAMP:20260425T232150
CREATED:20241014T200834Z
LAST-MODIFIED:20241209T045236Z
UID:15092-1733565600-1733590800@ujumine.ee
SUMMARY:Speedo Räimeralli finaal
DESCRIPTION:Speedo Räimeralli finaal \nTulemused \nJuhend \n\nUSKi osalejad SIIN\nLIVE SIIN\nStardiprotokoll SIIN
URL:https://ujumine.ee/event/speedo-raimeralli-finaal/
LOCATION:Aura veekeskus (25m)\, Tartu\, Estonia
CATEGORIES:Võistlused
ATTACH;FMTTYPE=image/jpeg:https://ujumine.ee/wp-content/uploads/2024/10/Ron_Einar_Pirnipuu-e1732088551796.jpg
END:VEVENT
BEGIN:VEVENT
DTSTART;TZID=Europe/Moscow:20241207T130000
DTEND;TZID=Europe/Moscow:20241207T170000
DTSTAMP:20260425T232150
CREATED:20241108T193851Z
LAST-MODIFIED:20241206T100700Z
UID:15186-1733576400-1733590800@ujumine.ee
SUMMARY:35. Eesti lahtised masters-ujumise MV 2024 - 7.12.2024
DESCRIPTION:35. Eesti lahtised masters-ujumise MV 2024 – 7.12.2024 \nJuhend \nLIVE tulemused SIIN \nOsalejad klubide kaupa SIIN
URL:https://ujumine.ee/event/35-masters-emv-2024/
LOCATION:Nõmme ujula\, Vabaduse pst. 156\, Tallinn\, Estonia
CATEGORIES:Võistlused
ATTACH;FMTTYPE=image/jpeg:https://ujumine.ee/wp-content/uploads/2024/11/Maire_team_0-e1731095286256.jpg
END:VEVENT
BEGIN:VEVENT
DTSTART;VALUE=DATE:20241212
DTEND;VALUE=DATE:20241213
DTSTAMP:20260425T232150
CREATED:20241216T065924Z
LAST-MODIFIED:20241216T065924Z
UID:15405-1733961600-1734047999@ujumine.ee
SUMMARY:Laste Karikas\, II etapp
DESCRIPTION:
URL:https://ujumine.ee/event/laste-karikas-ii-etapp/
LOCATION:Tallinn
CATEGORIES:Võistlused
END:VEVENT
BEGIN:VEVENT
DTSTART;TZID=Europe/Moscow:20241214T110000
DTEND;TZID=Europe/Moscow:20241214T130000
DTSTAMP:20260425T232150
CREATED:20241108T195930Z
LAST-MODIFIED:20241214T104935Z
UID:15192-1734174000-1734181200@ujumine.ee
SUMMARY:Tartumaa meistrivõistlused ujumises
DESCRIPTION:Tartumaa Meistrivõistlused ujumises 2024\nAura Keskuses 25 m rajal – 14.12.2024\nStardiprotokoll: SIIN\nTulemused (pdf): SIIN\nLive-tulemused: SIIN\nJuhend: SIIN\n  \nAlad :\n1. 50 m vabalt (N ja M)\n2. 50 m rinnuli (N ja M)\n3. 50 m selili (N ja M)\n4. 50 m liblikat (N ja M)\nVanusegrupid:\n1. Noored kuni s.a. 2009 (kuni 15-aastased)\n2. Põhigrupp 2008 – 2000 (16 – 24-aastased)\n3. Seenior I 1999 – 1985 (25 – 39-aastased)\n4. Seenior II 1984 ja varem sündinud (40-aastased ja vanemad)\n \nREGISTREERUMINE (hiljemalt E\, 9.12.2024)\n– swimrankings.net (klubid)\nvõi\n– e-post: voistlus@ujumine.ee (nimi\, sünniaeg\, klubi/ kool/ ettevõtte\, alad). \n  \n  \n 
URL:https://ujumine.ee/event/tartumaa-mv-ujumises/
LOCATION:Aura veekeskus (25m)\, Tartu\, Estonia
CATEGORIES:Võistlused
ATTACH;FMTTYPE=image/jpeg:https://ujumine.ee/wp-content/uploads/2024/11/medalid-e1731096132876.jpg
ORGANIZER;CN="Ujumise Spordiklubi":MAILTO:info@ujumine.ee
END:VEVENT
BEGIN:VEVENT
DTSTART;TZID=Europe/Moscow:20241214T140000
DTEND;TZID=Europe/Moscow:20241214T160000
DTSTAMP:20260425T232150
CREATED:20241108T160646Z
LAST-MODIFIED:20241214T140344Z
UID:15183-1734184800-1734192000@ujumine.ee
SUMMARY:Ujumise Spordiklubi Talvestardid - 14.12.2024
DESCRIPTION:Ujumise Spordiklubi klubivõistlus – Talvestardid\nAura Keskuses 25 m rajal – 14.12.2024\n\nStardiprotokollid: SIIN\nTulemused (pdf): SIIN\nLive-tulemused: SIIN\nJuhend: SIIN\nAlad ja vanuseklassid: \n\n25 m vabalt – kuni s.a 2017; 2016; 2015\n25 m rinnuli – kuni s.a 2014\n50 m vabalt –   kuni s.a 2014;\nautasustamine\n25 m selili –  kuni s.a 2017; 2016; 2015\n25 m liblikat –  kuni s.a 2014\n50 m selili –     kuni s.a 2014;\nautasustamine\n 2 x 25 m vabalt „lapse ja (vana)vanema teateujumine” – Absoluut\nautasustamine\n\nNB! Ujuda saab kuni 4 individuaal-ala. \nRegamine treeneri kaudu kuni E\, 9.12.2024 \n  \nNS\, EMV\, Masters jt. rühmade ujujad oodatud Tartumaa MV-le\, 14.12.2024 kl 11:00.\nRohkem infot Tartumaa Meistrivõistluste kohta : SIIN
URL:https://ujumine.ee/event/talvestardid-24/
LOCATION:Aura veekeskus (25m)\, Tartu\, Estonia
CATEGORIES:Võistlused
ATTACH;FMTTYPE=image/jpeg:https://ujumine.ee/wp-content/uploads/2024/11/Maitahekesed2024-9-scaled.jpg
END:VEVENT
BEGIN:VEVENT
DTSTART;TZID=Europe/Moscow:20241220T100000
DTEND;TZID=Europe/Moscow:20241222T190000
DTSTAMP:20260425T232150
CREATED:20241211T120632Z
LAST-MODIFIED:20241219T092630Z
UID:15350-1734688800-1734894000@ujumine.ee
SUMMARY:105 Eesti meistrivõistlused ujumises
DESCRIPTION:Juhend\nStartlist\nEntry_list\nLIVE tulemused\nVõistluse otseülekanne Postimehe vahendusel
URL:https://ujumine.ee/event/105-eesti-meistrivoistlused-ujumises/
LOCATION:Aura veekeskus (50m)\, Tartu\, Estonia
CATEGORIES:Võistlused
ATTACH;FMTTYPE=image/jpeg:https://ujumine.ee/wp-content/uploads/2024/12/tDSC_0023-scaled.jpg
END:VEVENT
END:VCALENDAR