BEGIN:VCALENDAR
VERSION:2.0
PRODID:-//Ujumise Spordiklubi - ECPv6.14.0//NONSGML v1.0//EN
CALSCALE:GREGORIAN
METHOD:PUBLISH
X-WR-CALNAME:Ujumise Spordiklubi
X-ORIGINAL-URL:https://ujumine.ee
X-WR-CALDESC:Events for Ujumise Spordiklubi
REFRESH-INTERVAL;VALUE=DURATION:PT1H
X-Robots-Tag:noindex
X-PUBLISHED-TTL:PT1H
BEGIN:VTIMEZONE
TZID:Europe/Moscow
BEGIN:STANDARD
TZOFFSETFROM:+0300
TZOFFSETTO:+0300
TZNAME:MSK
DTSTART:20260101T000000
END:STANDARD
END:VTIMEZONE
BEGIN:VEVENT
DTSTART;VALUE=DATE:20261107
DTEND;VALUE=DATE:20261108
DTSTAMP:20260425T183143
CREATED:20260109T115631Z
LAST-MODIFIED:20260109T115631Z
UID:16553-1794009600-1794095999@ujumine.ee
SUMMARY:EUL Noortesarja Nordaid etapp
DESCRIPTION:Üldjuhend SIIN
URL:https://ujumine.ee/event/eul-noortesarja-nordaid-etapp/
LOCATION:Wiru Spordikeskus\, Järveküla tee 44\, Kohtla-Järve\, Ida-Virumaa\, 30321\, Estonia
CATEGORIES:Võistlused
END:VEVENT
BEGIN:VEVENT
DTSTART;TZID=Europe/Moscow:20261113T080000
DTEND;TZID=Europe/Moscow:20261114T170000
DTSTAMP:20260425T183143
CREATED:20260109T123319Z
LAST-MODIFIED:20260109T123319Z
UID:16597-1794556800-1794675600@ujumine.ee
SUMMARY:Kalev Open
DESCRIPTION:
URL:https://ujumine.ee/event/kalev-open-2/
LOCATION:Sõle Spordikeskus\, Sõle 40a\, Tallinn\, 10317
CATEGORIES:Võistlused
END:VEVENT
BEGIN:VEVENT
DTSTART;TZID=Europe/Moscow:20261120T080000
DTEND;TZID=Europe/Moscow:20261122T170000
DTSTAMP:20260425T183143
CREATED:20260109T123426Z
LAST-MODIFIED:20260109T123426Z
UID:16599-1795161600-1795366800@ujumine.ee
SUMMARY:Eesti juunioride ja noorte LR MV
DESCRIPTION:
URL:https://ujumine.ee/event/eesti-juunioride-ja-noorte-lr-mv/
LOCATION:Kipsala
CATEGORIES:Võistlused
END:VEVENT
BEGIN:VEVENT
DTSTART;TZID=Europe/Moscow:20261201T080000
DTEND;TZID=Europe/Moscow:20261206T170000
DTSTAMP:20260425T183143
CREATED:20260109T123605Z
LAST-MODIFIED:20260109T123605Z
UID:16601-1796112000-1796576400@ujumine.ee
SUMMARY:MM LR
DESCRIPTION:
URL:https://ujumine.ee/event/mm-lr/
LOCATION:Hiina\, Peking\, China
CATEGORIES:Võistlused
END:VEVENT
BEGIN:VEVENT
DTSTART;VALUE=DATE:20261205
DTEND;VALUE=DATE:20261206
DTSTAMP:20260425T183143
CREATED:20260109T123722Z
LAST-MODIFIED:20260109T123722Z
UID:16604-1796428800-1796515199@ujumine.ee
SUMMARY:Eesti masters-ujumise LR MV
DESCRIPTION:
URL:https://ujumine.ee/event/eesti-masters-ujumise-lr-mv/
LOCATION:Nõmme ujula\, Vabaduse pst. 156\, Tallinn\, Estonia
CATEGORIES:Võistlused
END:VEVENT
BEGIN:VEVENT
DTSTART;TZID=Europe/Moscow:20261205T080000
DTEND;TZID=Europe/Moscow:20261206T170000
DTSTAMP:20260425T183143
CREATED:20260109T123818Z
LAST-MODIFIED:20260109T123818Z
UID:16606-1796457600-1796576400@ujumine.ee
SUMMARY:Põhjamaade MV
DESCRIPTION:
URL:https://ujumine.ee/event/pohjamaade-mv/
LOCATION:Leedu\, Lithuania
CATEGORIES:Võistlused
END:VEVENT
BEGIN:VEVENT
DTSTART;TZID=Europe/Moscow:20261205T113000
DTEND;TZID=Europe/Moscow:20261205T183000
DTSTAMP:20260425T183143
CREATED:20251229T063616Z
LAST-MODIFIED:20251229T063908Z
UID:16508-1796470200-1796495400@ujumine.ee
SUMMARY:Speedo Räimeralli finaal 05.12.2026
DESCRIPTION:Juhend SIIN
URL:https://ujumine.ee/event/speedo-raimeralli-finaal-05-12-2026/
LOCATION:Aura veekeskus (25m)\, Tartu\, Estonia
CATEGORIES:Võistlused
END:VEVENT
BEGIN:VEVENT
DTSTART;TZID=Europe/Moscow:20261212T080000
DTEND;TZID=Europe/Moscow:20261213T170000
DTSTAMP:20260425T183143
CREATED:20260109T123929Z
LAST-MODIFIED:20260109T123929Z
UID:16609-1797062400-1797181200@ujumine.ee
SUMMARY:Wiru Swim Cup
DESCRIPTION:
URL:https://ujumine.ee/event/wiru-swim-cup-2/
LOCATION:Wiru Spordikeskus\, Järveküla tee 44\, Kohtla-Järve\, Ida-Virumaa\, 30321\, Estonia
CATEGORIES:Võistlused
END:VEVENT
BEGIN:VEVENT
DTSTART;TZID=Europe/Moscow:20261212T110000
DTEND;TZID=Europe/Moscow:20261212T130000
DTSTAMP:20260425T183143
CREATED:20260109T124031Z
LAST-MODIFIED:20260109T124031Z
UID:16611-1797073200-1797080400@ujumine.ee
SUMMARY:Tartumaa MV ujumises
DESCRIPTION:
URL:https://ujumine.ee/event/tartumaa-mv-ujumises-2/
LOCATION:Aura veekeskus (25m)\, Tartu\, Estonia
CATEGORIES:Võistlused
END:VEVENT
BEGIN:VEVENT
DTSTART;TZID=Europe/Moscow:20261212T140000
DTEND;TZID=Europe/Moscow:20261212T170000
DTSTAMP:20260425T183143
CREATED:20260109T124118Z
LAST-MODIFIED:20260109T124118Z
UID:16613-1797084000-1797094800@ujumine.ee
SUMMARY:USKi Talvestardid
DESCRIPTION:
URL:https://ujumine.ee/event/uski-talvestardid/
LOCATION:Aura veekeskus (25m)\, Tartu\, Estonia
CATEGORIES:Võistlused
END:VEVENT
BEGIN:VEVENT
DTSTART;TZID=Europe/Moscow:20261218T080000
DTEND;TZID=Europe/Moscow:20261220T170000
DTSTAMP:20260425T183143
CREATED:20260109T124208Z
LAST-MODIFIED:20260109T124208Z
UID:16615-1797580800-1797786000@ujumine.ee
SUMMARY:Eesti LR meistrivõistlused ujumises
DESCRIPTION:
URL:https://ujumine.ee/event/eesti-lr-meistrivoistlused-ujumises/
LOCATION:Kipsala
CATEGORIES:Võistlused
END:VEVENT
END:VCALENDAR