BEGIN:VCALENDAR
VERSION:2.0
PRODID:-//Ujumise Spordiklubi - ECPv6.14.0//NONSGML v1.0//EN
CALSCALE:GREGORIAN
METHOD:PUBLISH
X-WR-CALNAME:Ujumise Spordiklubi
X-ORIGINAL-URL:https://ujumine.ee
X-WR-CALDESC:Events for Ujumise Spordiklubi
REFRESH-INTERVAL;VALUE=DURATION:PT1H
X-Robots-Tag:noindex
X-PUBLISHED-TTL:PT1H
BEGIN:VTIMEZONE
TZID:Europe/Moscow
BEGIN:STANDARD
TZOFFSETFROM:+0300
TZOFFSETTO:+0300
TZNAME:MSK
DTSTART:20250101T000000
END:STANDARD
END:VTIMEZONE
BEGIN:VEVENT
DTSTART;VALUE=DATE:20250719
DTEND;VALUE=DATE:20250720
DTSTAMP:20260425T132314
CREATED:20250612T005905Z
LAST-MODIFIED:20250612T005905Z
UID:15847-1752883200-1752969599@ujumine.ee
SUMMARY:Avaveeujumise Eesti meistrivõistlused 10 km (absoluutklass) ja 3\,3 km (mastersujujad\, lahtised MV)\, Viljandi
DESCRIPTION:
URL:https://ujumine.ee/event/avaveeujumise-eesti-meistrivoistlused-10-km-absoluutklass-ja-33-km-mastersujujad-lahtised-mv-viljandi/
LOCATION:Viljandi
CATEGORIES:Võistlused
END:VEVENT
BEGIN:VEVENT
DTSTART;TZID=Europe/Moscow:20250717T080000
DTEND;TZID=Europe/Moscow:20250723T170000
DTSTAMP:20260425T132314
CREATED:20241016T030115Z
LAST-MODIFIED:20250513T171129Z
UID:15118-1752739200-1753290000@ujumine.ee
SUMMARY:Universiaad Berliinis
DESCRIPTION:Universiaadi ujumisvõistlused Berliinis 17-23.juuli \nVõistluse koduleht  \n\nVõistlejate vanus 01.01.2000-31.12.2007\,\nVõistleja peab olema kõrgkooli tudeng\n\nEestist erandina lubatud ka gümnasistid ja kutsekoolide õpilased\, kui õ.a. õppinud vähemalt 2 aastat\n\n\nOsalustasu 85 EUR /päev (7 päeva = 595 EUR)\n\nVõistlus\nMajutus\nToitlustus\nTransfeerid lennujaama ja võistluspaikade vahel\n\nLisanduvad\n\nreisikulud (lend\, kindlustus jm)\n20 EUR FISU registreerimistasu\n\n\n\n\n\n\n10.04.2025 – arvuline regamine\n10.06.2025 – nimeline regamine (ankeedid + dokumendid)\nSoovid EULile Katriin Kersale (koostab nimekirjad)\n\n 
URL:https://ujumine.ee/event/universiaad-berliinis/
CATEGORIES:Võistlused
ATTACH;FMTTYPE=image/jpeg:https://ujumine.ee/wp-content/uploads/2024/10/1_Tudengid2024-kala-scaled-e1729046918433.jpg
END:VEVENT
BEGIN:VEVENT
DTSTART;VALUE=DATE:20250715
DTEND;VALUE=DATE:20250716
DTSTAMP:20260425T132314
CREATED:20250612T005642Z
LAST-MODIFIED:20250612T005642Z
UID:15844-1752537600-1752623999@ujumine.ee
SUMMARY:Värska lahe avaveeujumine
DESCRIPTION:Juhend \nVärska avaveeujumine toimub 15. juulil 2025 a kell 18.00. Ujumisdistantsi pikkus ca 1200 m ühisstardist.
URL:https://ujumine.ee/event/varska-lahe-avaveeujumine/
LOCATION:Värska
CATEGORIES:Võistlused
END:VEVENT
BEGIN:VEVENT
DTSTART;VALUE=DATE:20250713
DTEND;VALUE=DATE:20250714
DTSTAMP:20260425T132314
CREATED:20250612T005428Z
LAST-MODIFIED:20250612T005428Z
UID:15841-1752364800-1752451199@ujumine.ee
SUMMARY:Eesti Ujumisliidu avaveeujumise seeriavõistluse III etapp\, Elva
DESCRIPTION:Juhend \n\n       Kell 12.00  I start –  100 m\n       Kell 12.10  II start – 400 m\n       Kell 12.30 III start – 700 m \n      Kell 13.00 IV start- 2100m
URL:https://ujumine.ee/event/eesti-ujumisliidu-avaveeujumise-seeriavoistluse-iii-etapp-elva/
LOCATION:Elva\, MTÜ AOK Arendus
CATEGORIES:Võistlused
END:VEVENT
BEGIN:VEVENT
DTSTART;VALUE=DATE:20250712
DTEND;VALUE=DATE:20250713
DTSTAMP:20260425T132314
CREATED:20250612T005213Z
LAST-MODIFIED:20250612T005213Z
UID:15839-1752278400-1752364799@ujumine.ee
SUMMARY:Open Water Estonia Pirita avaveeujumine\, Tallinn
DESCRIPTION:Juhend \n\nUUS! Palume kõikidel osalejatel olla kohal hiljemalt kell 10.00\, et jõuda tutvuda reeglite ja dokumentidega. Ametlik instruktaaž kell 10.30\, millele järgnevad varustuse kontrollid\nStardimaterjalid saab kätte esitades isikut tõendavat dokumenti ja teades oma stardinumbrit
URL:https://ujumine.ee/event/open-water-estonia-pirita-avaveeujumine-tallinn/
LOCATION:Tallinn
CATEGORIES:Võistlused
END:VEVENT
BEGIN:VEVENT
DTSTART;VALUE=DATE:20250705
DTEND;VALUE=DATE:20250708
DTSTAMP:20260425T132314
CREATED:20241216T071120Z
LAST-MODIFIED:20250327T201426Z
UID:15421-1751673600-1751932799@ujumine.ee
SUMMARY:Põhjamaade noorte MV
DESCRIPTION:2025-Nordic-Age-Group-Championships-Invitation \nFäari saarte Ujumisliit \nKogumaksumus ca 1200.- – 1400.- \n\nEesti Ujumisliidu võistkond:\n\n\n\nAdele Roop – USK\n Freya Cornelia Vilborn – USK\nGerd Johan Lessing – USK\nErik Mäesepp – USK\nRobin Priks – USK\n… vt SIIT\n\nTreenerid:\n\nKatriin Kersa\nPavel Anufrijev\nSilver Hein\nKaja Haljaste\n\nMajutus: Hilton Garden Inn\, hind ca 258€/in. – majutus ja hommikusöök\nLennud:\nLO 792      FRI 04JUL25       Tallinn/TLL – Warsaw/WAW  05:45 – 06:25 LOT Polish\nLO 463      FRI 04JUL25       WAW – Copenhagen/CPH           08:25 – 09:55 LOT Polish\nLO 5445    FRI 04JUL25       CPH – Faroe Islands/FAE           11:10 – 12:25  SAS\nLO 5428    MON 07JUL25    Faroe Islands/FAE – CPH        13:15 – 16:20 SAS\nLO 462      MON 07JUL25    CPH – Warsaw/WAW                  19:25 – 20:50  LOT Polish\nLO 791      MON 07JUL25    Warsaw/WAW – Tallinn/TLL    23:00 – 01:40 TUE 08JUL LOT\nHind al. 580 € reisija  (käsipagas 8 kg + reg. pagas 23 kg.)\nVõistluspakett: ?\nSöögid (lõuna\, õhtu): ?\nKindlustused: ?
URL:https://ujumine.ee/event/pohjamaade-noorte-mv/
LOCATION:Fääri saared
CATEGORIES:Võistlused
ATTACH;FMTTYPE=image/jpeg:https://ujumine.ee/wp-content/uploads/2024/12/Faari_UL.jpg
END:VEVENT
BEGIN:VEVENT
DTSTART;VALUE=DATE:20250701
DTEND;VALUE=DATE:20250707
DTSTAMP:20260425T132314
CREATED:20241216T071228Z
LAST-MODIFIED:20241216T071228Z
UID:15425-1751328000-1751846399@ujumine.ee
SUMMARY:Euroopa juunioride meistrivõistlused
DESCRIPTION:
URL:https://ujumine.ee/event/euroopa-juunioride-meistrivoistlused/
LOCATION:Šamorin (SVK)
CATEGORIES:Võistlused
END:VEVENT
BEGIN:VEVENT
DTSTART;TZID=Europe/Moscow:20250630T120000
DTEND;TZID=Europe/Moscow:20250704T140000
DTSTAMP:20260425T132314
CREATED:20250116T102817Z
LAST-MODIFIED:20250625T061621Z
UID:15486-1751284800-1751637600@ujumine.ee
SUMMARY:Madsa suvelaager 2025
DESCRIPTION:Spordilaager Madsal 30. juuni- 4. juuli 2025 – INFOKIRI  \nVäljasõit laagrisse E\, 30. juunil kl 12.00 Aura Keskuse eest \nTagasi Tartus R\, 4. juulil ca kl 15.00. Madsalt väljasõit kl 14.00   \n\nElamine Madsa laagrikompleksis\, voodipesu on kohapeal olemas\nToitlustamine 3 x päevas\nTreeningud\, ujumised\, pallimängud\, võimlemised\, matkad\, jooksud\, õhtused üritused ja isetegevus\n\n\nLaagrisse on oodatud 8-12. aastased (2017-2013 s.a.)\n\nRegistreerumine laagrisse lõppenud  \nLaagri õppemaks 160 EUR \n\nRegistreerumisel saadetakse koha broneerimiseks I osamakse arve 40 EUR\n\nII osamakse (120 EUR) tasumise tähtaeg on 21. juuni 2025\n\n\nLaagris on 5 treenerit ja ca 55 last\n\nLaagri treenerid: \n\nMart Leo Ruus – 551 6024   – mart@ujumine.ee\nAndrus Kuusk   – 555 97 540 – andrus@ujumine.ee\nCevin Anders Siim – 5807 1822 – cevin@ujumine.ee\nMarie Lindepuu – 5304 3555 – marie@ujumine.ee\nDiana Päslane – 5348 8332 – diana@ujumine.ee\n\nÜldine info – Kaja Haljaste -5117 839 – info@ujumine.ee
URL:https://ujumine.ee/event/madsa-suvelaager-2025/
LOCATION:Madsa Spordi- ja Puhkekeskus\, Madsa puhkeküla\, Arula\, Valga maakond\, 67411\, Estonia
CATEGORIES:Üritused
ATTACH;FMTTYPE=image/jpeg:https://ujumine.ee/wp-content/uploads/2025/01/Madsa.jpg
END:VEVENT
BEGIN:VEVENT
DTSTART;VALUE=DATE:20250628
DTEND;VALUE=DATE:20250629
DTSTAMP:20260425T132314
CREATED:20250612T004737Z
LAST-MODIFIED:20250612T004737Z
UID:15835-1751068800-1751155199@ujumine.ee
SUMMARY:Open Water Estonia Käsmu-Võsu avaveeujumine\, mereujumine\, Käsmu
DESCRIPTION:Juhend \n\n\n\n12:01\n100 m\n\n\n\n12:01\n200 m\n\n\n\n12:00\n500 m\n\n\n\n12:00\n1 km\n\n\n\n14:00\n3.5 km
URL:https://ujumine.ee/event/open-water-estonia-kasmu-vosu-avaveeujumine-mereujumine-kasmu/
LOCATION:Käsmu
CATEGORIES:Võistlused
END:VEVENT
BEGIN:VEVENT
DTSTART;VALUE=DATE:20250628
DTEND;VALUE=DATE:20250629
DTSTAMP:20260425T132314
CREATED:20250612T004251Z
LAST-MODIFIED:20250612T004251Z
UID:15832-1751068800-1751155199@ujumine.ee
SUMMARY:Eesti Ujumisliidu avaveeujumise seeriavõistluse II etapp\, Haapsalu-Österby (võistluskeskus Österby's)
DESCRIPTION:Juhend \nAJAKAVA ja DISTANTSID\n10:00 Võistluskeskus on avatud\n11:50 Väljub buss Österby sadamast stardipaika Haapsalus.\n13:00 Põhidistantsi start Grand Holm Marina sadamast\n14:30 Laste- ja rahvadistants Österby sadamas\n15:00 Finiš Österby sadamas suletakse\n15:30 Autasustamine\n– Põhidistantsi pikkus on ~2\,3 km
URL:https://ujumine.ee/event/eesti-ujumisliidu-avaveeujumise-seeriavoistluse-ii-etapp-haapsalu-osterby-voistluskeskus-osterbys/
LOCATION:Haapsalu-Österby
CATEGORIES:Võistlused
END:VEVENT
BEGIN:VEVENT
DTSTART;VALUE=DATE:20250628
DTEND;VALUE=DATE:20250629
DTSTAMP:20260425T132314
CREATED:20241216T070954Z
LAST-MODIFIED:20241216T070954Z
UID:15418-1751068800-1751155199@ujumine.ee
SUMMARY:XXIV Arena Keila Cup
DESCRIPTION:
URL:https://ujumine.ee/event/xxiv-arena-keila-cup/
LOCATION:keila
CATEGORIES:Võistlused
END:VEVENT
BEGIN:VEVENT
DTSTART;VALUE=DATE:20250618
DTEND;VALUE=DATE:20250621
DTSTAMP:20260425T132314
CREATED:20241216T070813Z
LAST-MODIFIED:20250523T105752Z
UID:15416-1750204800-1750463999@ujumine.ee
SUMMARY:Eesti meistrivõistlused. Eesti juunioride ja noorte meistrivõistlused 18.-20.06.25
DESCRIPTION:Juhend SIIN \nÜlesandmised kuni 13.06.2025 kl 23.59 \nStardimaks 13 EUR \nEelujumiste stardid kl 9:30\, finaalid K\, N (18.\, 19. juunil) kl 17:00\, v.a. R (20. juunil)  kl 16:00
URL:https://ujumine.ee/event/eesti-meistrivoistlused-eesti-juunioride-ja-noorte-meistrivoistlused/
CATEGORIES:Võistlused
END:VEVENT
BEGIN:VEVENT
DTSTART;VALUE=DATE:20250615
DTEND;VALUE=DATE:20250616
DTSTAMP:20260425T132314
CREATED:20250612T003838Z
LAST-MODIFIED:20250612T003838Z
UID:15829-1749945600-1750031999@ujumine.ee
SUMMARY:Eesti Ujumisliidu avaveeujumise seeriavõistluse I etapp\, Karksi-Nuia
DESCRIPTION:Juhend \nKOHT: Karksi-Nuia paisjärv (58°06’27.1″N 25°33’03.9″E)  \nDISTANTSID:   \n\n Kell 12.00 I start – 100 m \n Kell 12.15 II start – 400 m \n Kell 13.00 III start – 900 m ja 1800 m \nVõistluskeskus on avatud alates kell 11.00 Karksi-Nuia paisjärve rannas. 
URL:https://ujumine.ee/event/eesti-ujumisliidu-avaveeujumise-seeriavoistluse-i-etapp-karksi-nuia/
LOCATION:Karksi-Nuia
CATEGORIES:Võistlused
END:VEVENT
BEGIN:VEVENT
DTSTART;VALUE=DATE:20250614
DTEND;VALUE=DATE:20250615
DTSTAMP:20260425T132314
CREATED:20250612T003434Z
LAST-MODIFIED:20250612T003434Z
UID:15825-1749859200-1749945599@ujumine.ee
SUMMARY:Vanamõisa järve avaveeujumine\, Tõrva
DESCRIPTION:Juhend \nVanamõisa avaveeujumine toimub 14. juunil 2025 a kell 17.00.  \nUjumisdistantsi pikkus ca 800 m ühisstardist. 
URL:https://ujumine.ee/event/vanamoisa-jarve-avaveeujumine-torva/
LOCATION:Tõrva
CATEGORIES:Võistlused
END:VEVENT
BEGIN:VEVENT
DTSTART;VALUE=DATE:20250614
DTEND;VALUE=DATE:20250615
DTSTAMP:20260425T132314
CREATED:20241216T070631Z
LAST-MODIFIED:20250513T170931Z
UID:15414-1749859200-1749945599@ujumine.ee
SUMMARY:Noortesari\, III etapp Pärnus
DESCRIPTION:Juhend SIIN \n\nStardid kl.11:00\n9 EUR start\nEelregistreerimine kuni 9. juuni kl. 23.59 swimrankings.net\n\n 
URL:https://ujumine.ee/event/noortesari-iii-etapp/
LOCATION:Pärnu
CATEGORIES:Võistlused
END:VEVENT
BEGIN:VEVENT
DTSTART;TZID=Europe/Moscow:20250607T110000
DTEND;TZID=Europe/Moscow:20250607T190000
DTSTAMP:20260425T132314
CREATED:20250428T115608Z
LAST-MODIFIED:20250529T070540Z
UID:15745-1749294000-1749322800@ujumine.ee
SUMMARY:Eesti masters-ujumise ja Üliõpilaste meistrivõistlused Tartus
DESCRIPTION:Eesti masters-ujumise ja Üliõpilaste MV Tartus Aura Keskuse 50 m ujulas \nEUL viide \nJuhend SIIN \nLaupäeval\, 07.06.2025\nI osa Soojendus 10:00-10:50\, stardid 11:00 \nII osa Soojendus 15:30-16:20\, stardid 16:30
URL:https://ujumine.ee/event/eesti-masters-ujumise-ja-uliopilaste-meistrivoistlused-tartus/
CATEGORIES:Võistlused
END:VEVENT
BEGIN:VEVENT
DTSTART;VALUE=DATE:20250531
DTEND;VALUE=DATE:20250601
DTSTAMP:20260425T132314
CREATED:20250529T070723Z
LAST-MODIFIED:20250529T070723Z
UID:15822-1748649600-1748735999@ujumine.ee
SUMMARY:Vahumeistrist veteselliks - Kohtla-Järvel
DESCRIPTION:
URL:https://ujumine.ee/event/vahumeistrist-veteselliks-kohtla-jarvel/
LOCATION:Kohtla-Järve bassein (25m)\, Kohtla-Järve\, Estonia
CATEGORIES:Võistlused
END:VEVENT
BEGIN:VEVENT
DTSTART;VALUE=DATE:20250531
DTEND;VALUE=DATE:20250601
DTSTAMP:20260425T132314
CREATED:20241216T070520Z
LAST-MODIFIED:20241216T070520Z
UID:15412-1748649600-1748735999@ujumine.ee
SUMMARY:Laste Karikas\, III etapp
DESCRIPTION:
URL:https://ujumine.ee/event/laste-karikas-iii-etapp/
LOCATION:Tallinn
CATEGORIES:Võistlused
END:VEVENT
BEGIN:VEVENT
DTSTART;VALUE=DATE:20250524
DTEND;VALUE=DATE:20250525
DTSTAMP:20260425T132314
CREATED:20241216T070437Z
LAST-MODIFIED:20250524T063636Z
UID:15410-1748044800-1748131199@ujumine.ee
SUMMARY:Speedo Räimeralli 2.etapp
DESCRIPTION:Juhend: SIIN \nLIVE: https://yess.ee/main/live/RR_2_2025/ \nStardiprotokoll: SIIN
URL:https://ujumine.ee/event/speedo-raimeralli-2-etapp/
LOCATION:Tartu\, Sadama 1\, Tartu\, Tartumaa\, 51004\, Estonia
CATEGORIES:Võistlused
END:VEVENT
BEGIN:VEVENT
DTSTART;TZID=Europe/Moscow:20250504T100000
DTEND;TZID=Europe/Moscow:20250504T133000
DTSTAMP:20260425T132314
CREATED:20250428T112418Z
LAST-MODIFIED:20250428T113041Z
UID:15742-1746352800-1746365400@ujumine.ee
SUMMARY:USKi treenerite sisekoolitus: Erivajadusega laps treeningul
DESCRIPTION:Koolitus “Erivajadusega laps treeningul”  toimub 4. mail 2025. \nToimumiskoht: Ahhaa keskus\, Apollo saal (Sadama 1\, Tartu) \nKellaaeg: 10.00-13.15 (kogunemine 9.50) \nPäevakava: \n\n9.50 saabumine\n10.00-11.30 koolituse I osa.\n\nErivajadus vs puue. Kaasav haridus\, kuidas mõjutab kaasav haridus treeninguid. Autismispektri häire\, ATH ja selle alaliikide\, käitumisprobleemide ja andekuse avaldumine treeningtingimustes ja kollektiivis. \n\n11.30-11.45 vahepaus\n11.45-13.15 koolituse II osa.\n\nKeele- ja kõnepuuete (sh kogeluse) ning üldise õpiraskuse tunnused ja avaldumine treeningtingimustes ja kollektiivis. Üldised sekkumisvõtted erivajadusega lapse toetamiseks treeningul. Juhtumiarutelud. \nKoolituse maht 4 AT. \n\nKoolitus sobib EKR 3 – EKR 7 kutse taastaotlemisel täiendkoolituseks.\nEesti Paraujumise Liit väljastab tõendi koolituse läbimise kohta\n\nKoolitaja: \nKaisa Pollisinski \nTartu Ülikool eripedagoogika\, BA \nUjumistreener EKR4
URL:https://ujumine.ee/event/uski-treenerite-sisekoolitus-erivajadusega-laps-treeningul/
LOCATION:Tartu\, Sadama 1\, Tartu\, Tartumaa\, 51004\, Estonia
CATEGORIES:Üritused
ORGANIZER;CN="Ujumise Spordiklubi":MAILTO:info@ujumine.ee
END:VEVENT
BEGIN:VEVENT
DTSTART;VALUE=DATE:20250503
DTEND;VALUE=DATE:20250504
DTSTAMP:20260425T132314
CREATED:20241216T070132Z
LAST-MODIFIED:20250503T114806Z
UID:15408-1746230400-1746316799@ujumine.ee
SUMMARY:Maitähekesed
DESCRIPTION:3. mail 2025 Aura Keskuses\nJUHEND: SIIN \nSTARTLIST:\n– 2 tulbaline: SIIN\n– 3 tulbaline: SIIN\n \nLive tulemused: Maitähekesed-live\nTulemused pfd: SIIN \n\nRegistreerunud tähestiku järjekorras: SIIN (2.05 kl 14:35)\nRegistreerunud alade ja vanusegruppide kaupa: SIIN(2.05 kl 14:35)\nTeatevõistkonnad (NB! vahetused/rajad võivad muutuda): SIIN (2.05 kl 14:35)\n\nSTARDID kl. 11:30- 14:30\,\nsissepääs 10:15 \nNB! Registreerumine treeneri kaudu!\nKontaktid leiad siit: https://ujumine.ee/treenerid/\n \nPROGRAMM  \n\n25 m vabalt T ja P – 2018\, 2017\, 2016\, 2015\n50 m vabalt T ja P – kuni 2014\, 2013-2011; 2010 ja vanemad\n*harrastusrühmad: kuni 2014\, 2013 ja vanemad (s.j lapsevanemad)\n*AUTASUSTAMINE\n25 m selili T ja P – 2018\, 2017\, 2016\, 2015\n50 m selili T ja P – kuni 2014\, 2013-2011; 2010 ja vanemad\n*harrastusrühmad: kuni 2014\, 2013 ja vanemad (s.j lapsevanemad)\n*AUTASUSTAMINE\n25 m liblikat T ja P – kuni 2015\n50 m liblikat T ja P – kuni 2014; 2013-2011; 2010 ja vanemad (s.j. lapsevanemad)\n*harrastusrühmadele eraldi arvestust ei ole!\n*AUTASUSTAMINE\n25 m rinnuli T ja P – kuni 2015\n50 m rinnuli T ja P – kuni 2014\, 2013-2011; 2010 ja vanemad (s.j. lapsevanemad)\n*harrastusrühmadele eraldi arvestust ei ole!\n*AUTASUSTAMINE\n2 x 25 m vabalt „õe ja venna“ teateujumine (ühe pere lapsed)\nKuni 2015 (vähemalt üks laps); 2014 ja vanemad\n *AUTASUSTAMINE\n2 x 25 m vabalt „lapse ja (vana)vanema“ teateujumine\nVanuseklass lapse sünniaasta järgi: kuni s.a 2015; 2014 ja vanemad\n*AUTASUSTAMINE\n\nOSALUSTASU – 10 EUR  – tasuda sularahas enne võistlust treeneri kätte\, ka ainult teateujujad \nAUTASUSTAMINE – iga ala ja vanuseklassi kolmele kiiremale medal + auhind. Kõigile teatevõistkondadele auhind! \n 
URL:https://ujumine.ee/event/maitahekesed/
LOCATION:Tartu\, Sadama 1\, Tartu\, Tartumaa\, 51004\, Estonia
CATEGORIES:Võistlused
ORGANIZER;CN="Ujumise Spordiklubi":MAILTO:info@ujumine.ee
END:VEVENT
BEGIN:VEVENT
DTSTART;TZID=Europe/Moscow:20250501T080000
DTEND;TZID=Europe/Moscow:20250503T180000
DTSTAMP:20260425T132314
CREATED:20250415T075501Z
LAST-MODIFIED:20250415T075501Z
UID:15701-1746086400-1746295200@ujumine.ee
SUMMARY:7. Läti noorte ja juunioride MV 1.-3.05.2025
DESCRIPTION:Juhend \n 
URL:https://ujumine.ee/event/7-lati-noorte-ja-juunioride-mv-1-3-05-2025/
LOCATION:Riia\, Kipsala\, Kipsalas iela 5\, Riia\, Kipsala\, Latvia
CATEGORIES:Võistlused
END:VEVENT
BEGIN:VEVENT
DTSTART;TZID=Europe/Moscow:20250414T113000
DTEND;TZID=Europe/Moscow:20250419T140000
DTSTAMP:20260425T132314
CREATED:20250116T075537Z
LAST-MODIFIED:20250404T120019Z
UID:15477-1744630200-1745071200@ujumine.ee
SUMMARY:Treeninglaager Sillamäel 14-18. aprillil
DESCRIPTION:Treenerid: Diana ja Erik Päslane \nVäljasõit Aura Keskuse eest E\, 14. aprillil kl 11:30\, tagasi Tartus reedel ca 14:00 \nOsalejad: \n\nVetesellid (Diana) 2014-2015\nNoortesari (Diana) 2011-2013\n\nLaagri maksumus 155 €\, tähtaeg 7.04.2025 \nTasu sisaldab: \n\nsöök kolm korda päevas\nmajutus \ntreeningud (2 x päevas ujumine\, 2 x päevas ÜKE)\n\nujula\, võimla\, jõusaal\, matisaal\n\n\ntransport Tartu – Sillamäe – Tartu
URL:https://ujumine.ee/event/sillamae_laager_2025/
LOCATION:Kadrina Spordikompleks\, Rakvere tee 14\, Kadrina\, Lääne-Viru maakond\, 45201\, Estonia
CATEGORIES:Üritused
ATTACH;FMTTYPE=image/jpeg:https://ujumine.ee/wp-content/uploads/2025/01/IMG_5204-scaled-e1737014520223.jpg
ORGANIZER;CN="Ujumise Spordiklubi":MAILTO:info@ujumine.ee
END:VEVENT
BEGIN:VEVENT
DTSTART;TZID=Europe/Moscow:20250411T120000
DTEND;TZID=Europe/Moscow:20250420T170000
DTSTAMP:20260425T132314
CREATED:20240923T182131Z
LAST-MODIFIED:20250115T202717Z
UID:15026-1744372800-1745168400@ujumine.ee
SUMMARY:Türgi kevadlaager - 11.-20.04.2025
DESCRIPTION:Türgi kevadlaager – 11.-20.04.2025 \nLennuajad: \n\nTK1422 V FR 11APR TLL-IST KK21 12.35 – 16.15 Turkish Airlines\nTK2428 Y FR 11APR IST-AYT KK21 17.30 – 19.00\nXQ496 20APR AYT-TLL KK20 23.25 – 03.35 (21APR) SunExpress (isiklik ese + 20 kg äraantav pagas)\n\n\n\nRegistreerumine SIIN\n\nMaksumus 1700 EUR\n\n\nRegistreerumise kinnitus 100 EUR 01.12.2024\n\n15. jaanuar 2025 – 500.-\n15. veebruar 2025 – 500.-\n15. aprill 2025 – 600.-\n\n\n\n\nPass peab kehtima 6 kuud reisi lõppkuupäevast\, s.o. 20. oktoobrini 2025\nReisikindlustus ise teha
URL:https://ujumine.ee/event/turgi-kevadlaager-11-20-04-2025/
LOCATION:Gloria Sports Arena\, Mah. Turizm Cad. No:4 Serik\, Belek\, Antalya\, Turkey
CATEGORIES:Üritused
ATTACH;FMTTYPE=image/jpeg:https://ujumine.ee/wp-content/uploads/2016/10/kertu_1-1.jpg
END:VEVENT
BEGIN:VEVENT
DTSTART;TZID=Europe/Moscow:20250404T080000
DTEND;TZID=Europe/Moscow:20250406T170000
DTSTAMP:20260425T132314
CREATED:20241216T065825Z
LAST-MODIFIED:20250404T114752Z
UID:15402-1743753600-1743958800@ujumine.ee
SUMMARY:Madwave Challenge 4-6.aprill
DESCRIPTION:Juhend SIIN \nStartlist\, LIVE \nSTARDIMAKS – 11 € start. \nAKREDITEERIMINE – 10 € sportlase kohta. Kõik osalejad vajavad akrediteeringut.\nAkrediteering sisaldab nimelist kaelakaarti ja korraldaja poolt kingitust. \nREGISTREERUMINE – E\, 31. märtsiks\, \nMAHAVÕTMISED  e-posti teel voistlused@tuksport.ee hiljemalt kolmapäevaks\, 2. märtsiks\, kell 19:59.
URL:https://ujumine.ee/event/madwave-challenge/
LOCATION:Tartu\, Sadama 1\, Tartu\, Tartumaa\, 51004\, Estonia
CATEGORIES:Võistlused
END:VEVENT
BEGIN:VEVENT
DTSTART;VALUE=DATE:20250329
DTEND;VALUE=DATE:20250331
DTSTAMP:20260425T132314
CREATED:20241216T065705Z
LAST-MODIFIED:20250311T061204Z
UID:15400-1743206400-1743379199@ujumine.ee
SUMMARY:Eesti karikavõistlused ujumises Aura Keskuses
DESCRIPTION:Juhend SIIN \nI osa – Laupäev\, 29.03.2025 – Soojendus 14:00\, Stardid 15:00\nII osa – Pühapäev\, 30.03.2025 – Soojendus 08:00\, Stardid 09:00\nIII osa – Pühapäev\, 30.03.2025 – Soojendus 15:00\, Stardid 16:00
URL:https://ujumine.ee/event/eesti-karikavoistlused-2/
LOCATION:Aura veekeskus (50m)\, Tartu\, Estonia
CATEGORIES:Võistlused
ATTACH;FMTTYPE=image/jpeg:https://ujumine.ee/wp-content/uploads/2022/06/287122506_414784353850894_6669455229494488819_n-1-e1741673490672.jpg
END:VEVENT
BEGIN:VEVENT
DTSTART;VALUE=DATE:20250322
DTEND;VALUE=DATE:20250324
DTSTAMP:20260425T132314
CREATED:20241216T065616Z
LAST-MODIFIED:20250321T093955Z
UID:15398-1742601600-1742774399@ujumine.ee
SUMMARY:Noortesarja II etapp 22.märtsil 2025 Keilas
DESCRIPTION:Noortesarja II etapp toimub 22.märtsil Keila Tervisekeskuse ujulas.\nNS II entrylist\n\nAlad: 200 m vabalt\, 200 m rinnuli\, 200 m selili ja 200 m liblikat.\nIga sportlane saab osa võtta kuni kolmest alast.\nÜlesandmine avatud kuni 5 päeva enne võistluse algust\, ehk 17.märtsi hilisõhtuni.\n\nArena Noortesarja Vichy etapi Juhend\nUSKi ujujad sõidavad Keilasse 21. märtsil\, majutuvad Keila Tervisekeskuse hostelis\n* Õhtusöök hostelis R\, 21.03.2025\n* Hommikusöök L\, 22.03.2025\n* Lõunasöök L\, 22.03.2025 võistluste ajal
URL:https://ujumine.ee/event/noortesarja-ii-etapp/
LOCATION:keila
CATEGORIES:Võistlused
ATTACH;FMTTYPE=image/jpeg:https://ujumine.ee/wp-content/uploads/2024/12/IMG_8708-e1741671984103.jpg
END:VEVENT
BEGIN:VEVENT
DTSTART;TZID=Europe/Moscow:20250315T080000
DTEND;TZID=Europe/Moscow:20250315T170000
DTSTAMP:20260425T132314
CREATED:20250201T085456Z
LAST-MODIFIED:20250201T085456Z
UID:15607-1742025600-1742058000@ujumine.ee
SUMMARY:Uju ja jookse III etapp Viljandis
DESCRIPTION:Juhend \nIII etapp 15. märtsil 2025: Viljandis – korraldaja Karksi Sport \n\nUjumine Viljandi Jakobsoni koolis\nJooksmine Viljandi Männimäe jalgpallihallis\n\nKontakt: Jaak Israel\, tel. 556 9844
URL:https://ujumine.ee/event/uju-ja-jookse-iii-etapp-viljandis/
ATTACH;FMTTYPE=image/jpeg:https://ujumine.ee/wp-content/uploads/2025/02/425744473_888508933066674_7142190318707230596_n-e1738400034214.jpg
END:VEVENT
BEGIN:VEVENT
DTSTART;VALUE=DATE:20250315
DTEND;VALUE=DATE:20250316
DTSTAMP:20260425T132314
CREATED:20241216T064728Z
LAST-MODIFIED:20241216T064728Z
UID:15396-1741996800-1742083199@ujumine.ee
SUMMARY:Ida-Virumaa ujumistähed II etapp
DESCRIPTION:
URL:https://ujumine.ee/event/ida-virumaa-ujumistahed-ii-etapp/
LOCATION:Kohtla-Järve\, Järveküla tee 41\, Kohtla-Järve\, Estonia
CATEGORIES:Võistlused
END:VEVENT
BEGIN:VEVENT
DTSTART;VALUE=DATE:20250308
DTEND;VALUE=DATE:20250310
DTSTAMP:20260425T132314
CREATED:20241216T064604Z
LAST-MODIFIED:20250307T173812Z
UID:15393-1741392000-1741564799@ujumine.ee
SUMMARY:Baltimaade meistrivõistlused
DESCRIPTION:Juhend SIIN \n\nEST_team\nUjujad aladel\nStardiprotokoll\nLIVE
URL:https://ujumine.ee/event/baltimaade-meistrivoistlused/
LOCATION:Tartu\, Sadama 1\, Tartu\, Tartumaa\, 51004\, Estonia
CATEGORIES:Võistlused
ATTACH;FMTTYPE=image/jpeg:https://ujumine.ee/wp-content/uploads/2024/12/473786503_628693486379486_2550071668536707900_n-e1737476701150.jpg
END:VEVENT
END:VCALENDAR