BEGIN:VCALENDAR
VERSION:2.0
PRODID:-//Ujumise Spordiklubi - ECPv6.14.0//NONSGML v1.0//EN
CALSCALE:GREGORIAN
METHOD:PUBLISH
X-WR-CALNAME:Ujumise Spordiklubi
X-ORIGINAL-URL:https://ujumine.ee
X-WR-CALDESC:Events for Ujumise Spordiklubi
REFRESH-INTERVAL;VALUE=DURATION:PT1H
X-Robots-Tag:noindex
X-PUBLISHED-TTL:PT1H
BEGIN:VTIMEZONE
TZID:Europe/Moscow
BEGIN:STANDARD
TZOFFSETFROM:+0300
TZOFFSETTO:+0300
TZNAME:MSK
DTSTART:20260101T000000
END:STANDARD
END:VTIMEZONE
BEGIN:VEVENT
DTSTART;VALUE=DATE:20260324
DTEND;VALUE=DATE:20260325
DTSTAMP:20260425T162622
CREATED:20260109T124527Z
LAST-MODIFIED:20260109T124527Z
UID:16617-1774310400-1774396799@ujumine.ee
SUMMARY:Eesti Ujumisliidu ujumistreenerite kutseeksam 2
DESCRIPTION:EUL kutseeksami info 2026 kevad
URL:https://ujumine.ee/event/eesti-ujumisliidu-ujumistreenerite-kutseeksam-2/
LOCATION:Audentese Spordiklubi\, Tondi 84\, Tallinn\, 11316\, Estonia
CATEGORIES:Üritused
END:VEVENT
BEGIN:VEVENT
DTSTART;TZID=Europe/Moscow:20260327T100000
DTEND;TZID=Europe/Moscow:20260329T170000
DTSTAMP:20260425T162622
CREATED:20251229T070350Z
LAST-MODIFIED:20260326T220138Z
UID:16522-1774605600-1774803600@ujumine.ee
SUMMARY:Madwave Challenge
DESCRIPTION:Juhend \n\nStardiprotokoll SIIN\nOsalejad aladel SIIN\n\nLIVE tulemused \n\nAkrediteerimistasu 5 EUR\nStardimaks 12 EUR (start)\nRegistreerumine kuni esmaspäevani\, 23.03.2026\nVANUSED\nC1 Tüdrukud\, sünd. 2012 ja nooremad ja C2 Poisid\, sünd. 2012 ja nooremad\nY1 Neiud\, sünd. 2010–2011 ja Y2 Noormehed\, sünd. 2010–2011\nA1 Naised OPEN (vanusepiiranguta) ja A2 Mehed OPEN (vanusepiiranguta)
URL:https://ujumine.ee/event/madwave-challenge-2/
LOCATION:Aura veekeskus (50m)\, Tartu\, Estonia
CATEGORIES:Võistlused
END:VEVENT
BEGIN:VEVENT
DTSTART;TZID=Europe/Moscow:20260410T080000
DTEND;TZID=Europe/Moscow:20260420T170000
DTSTAMP:20260425T162622
CREATED:20251008T201748Z
LAST-MODIFIED:20260331T094042Z
UID:16226-1775808000-1776704400@ujumine.ee
SUMMARY:Kevadlaager Türgis 10.-20.04.2026
DESCRIPTION:USKi kevadlaager Türgis 10.-20. aprillil 2026 (10 ööpäeva) \nTreeningbaas ja hotell GSA \nMaksumus *USKi ujujatele 1800 EUR (lend\, transfeer Antalyas\, majutus 2- või 3-ses toas\, söögid\, treeningud) \nLapsevanema luba kohustuslik 17-aastastel ja noorematel ujujatel SIIN \n\nMaksmise tähtajad:\n\nRegistreerumisel 200 EUR\, 3. jaanuar 500 EUR\, 2. märts 500 EUR\, 2. aprill 600 EUR\n\n\n\n\nLend Turkish airline: käsipagas + äraantav  kuni 23 kg pagas\n\nR\, 10.04.2026 –TK1422 – TLL-IST 11.15 -14:50\, TK2428 – IST-AYT 17:35-19:00\nE\, 20.04.2026 –TK2413 –  AYT-IST 11:55-13:30\, TK1423 – IST-TLL 15:10-18:40
URL:https://ujumine.ee/event/gsa_laager_2026/
LOCATION:Gloria Sports Arena\, Mah. Turizm Cad. No:4 Serik\, Belek\, Antalya\, Turkey
CATEGORIES:Üritused
ATTACH;FMTTYPE=image/jpeg:https://ujumine.ee/wp-content/uploads/2025/04/2025_04_19_GSA_USK_1-e1759954862854.jpg
END:VEVENT
BEGIN:VEVENT
DTSTART;TZID=Europe/Moscow:20260425T080000
DTEND;TZID=Europe/Moscow:20260425T170000
DTSTAMP:20260425T162622
CREATED:20260109T115327Z
LAST-MODIFIED:20260424T141211Z
UID:16548-1777104000-1777136400@ujumine.ee
SUMMARY:EUL Noortesarja Vichy etapp
DESCRIPTION:LIVE link SIIN\nOsalejad SIIN\nStardiprotokoll 2 tulpa\, 3 tulpa\nJuhend SIIN\n\nT -14 ja P-14 ( sünniaasta 2012)\nT-13 ja P-13 ( sünniaasta 2013)\nT-12 ja P-12 ( sünniaasta 2014)\n\n\nÜldjuhend SIIN\n\nStardid kl 11\, sisenemine alates kl 9.45\nEelregamine kuni 20.04.2026\nStardivõimalus kolmel 200 m distantsil\n\n200 vabalt\n200 rinnuli\n200 selili\n200 liblikat\n\n\nStardimaks 9 EUR start\nToitlustamine ettetellimise (20.04.2026 kl 12-ks) alusel – praad 7 EUR
URL:https://ujumine.ee/event/eul-noortesarja-vichy-etapp-keilas/
LOCATION:Keila (25m)\, Keila\, Estonia
CATEGORIES:Võistlused
END:VEVENT
BEGIN:VEVENT
DTSTART;VALUE=DATE:20260426
DTEND;VALUE=DATE:20260427
DTSTAMP:20260425T162622
CREATED:20260318T154536Z
LAST-MODIFIED:20260318T154536Z
UID:16732-1777161600-1777247999@ujumine.ee
SUMMARY:Valga Valka City Run
DESCRIPTION:Juhend \n\nRegistreerimine\nTulemused\n\n 
URL:https://ujumine.ee/event/valga-valka-city-run/
CATEGORIES:Võistlused
END:VEVENT
BEGIN:VEVENT
DTSTART;TZID=Europe/Moscow:20260501T080000
DTEND;TZID=Europe/Moscow:20260503T170000
DTSTAMP:20260425T162622
CREATED:20251229T070504Z
LAST-MODIFIED:20260410T192259Z
UID:16524-1777622400-1777827600@ujumine.ee
SUMMARY:Läti noorte ja juunioride meistrivõistlused ujumises
DESCRIPTION:Juhend \nVõistlusosade algusajad \n\nmai 10:00  ja 17:00\nmai 09:00 ja 16:00\nmai 09:00 ja 17:00\n\nVanuseklassid: 2012-2008 ja 2013 ja nooremad \n\n50 ja 100 m distantsidel A ja B finaalid\n200 m distantsidel finaalid\n400\, 800\, 1500 m kiirem vahetus õhtul\nTeateujumised õhtul\n\nStardimaks 14 EUR ind. start\, 28 EUR teateujumine \n 
URL:https://ujumine.ee/event/lati-noorte-ja-juunioride-meistrivoistlused-ujumises/
LOCATION:Riia\, Kipsala\, Kipsalas iela 5\, Riia\, Kipsala\, Latvia
CATEGORIES:Võistlused
END:VEVENT
BEGIN:VEVENT
DTSTART;TZID=Europe/Moscow:20260509T110000
DTEND;TZID=Europe/Moscow:20260509T170000
DTSTAMP:20260425T162622
CREATED:20251229T070615Z
LAST-MODIFIED:20260401T065244Z
UID:16526-1778324400-1778346000@ujumine.ee
SUMMARY:Maitähekesed
DESCRIPTION:9. mail 2026 Aura Keskuses\nJUHEND: SIIN \nEntry list: 8.05 hommikul\nStartlist: 8.05 õhtul \nSTARDID kl. 11:30- 14:30\,\nsissepääs 10:15 \nNB! Registreerumine treeneri kaudu!\nKontaktid leiad siit: https://ujumine.ee/treenerid/ \nPROGRAMM: \n\n25 m vabalt T ja P – kuni 2019; 2018; 2017; 2016\n50 m vabalt T ja P – kuni 2015; 2014-2012; 2011 ja vanemad\n*harrastusrühmad: kuni 2014; 2013-2002; 2001 ja vanemad (s.j. lapsevanemad)\n\n*AUTASUSTAMINE \n\n25 m selili T ja P – kuni 2019; 2018; 2017; 2016\n50 m selili T ja P – kuni 2015; 2014-2012; 2011 ja vanemad\n*harrastusrühmad: kuni 2014; 2013-2002; 2001 ja vanemad (s.j. lapsevanemad)\n\n       *AUTASUSTAMINE  \n\n25 m liblikat T ja P – kuni 2017; 2016\n50 m liblikat T ja P – kuni 2015; 2014-2012; 2011-2002\, 2001 ja vanemad (j. lapsevanemad)\n*harrastusrühmadele eraldi arvestust ei ole!\n\n*AUTASUSTAMINE  \n\n25 m rinnuli T ja P – kuni 2017; 2016\n50 m rinnuli T ja P – kuni 2015; 2014-2012; 2011-2002\, 2001 ja vanemad (j. lapsevanemad)\n*harrastusrühmadele eraldi arvestust ei ole!\n\n*AUTASUSTAMINE  \n\n2 x 25 m vabalt „õe ja venna“ teateujumine (ühe pere lapsed)\n\n\nKuni 2016 (vähemalt üks laps);\n2015 ja vanemad\n\n\n2 x 25 m vabalt „lapse ja (vana)vanema“ teateujumine \n\n\nVanuseklass lapse sünniaasta järgi: kuni s.a 2016;\n2015 ja vanemad\n\nNB! Emadele teateujumises eriauhinnad! \n            *AUTASUSTAMINE\n\n \nOSALUSTASU – 10 EUR  – tasuda sularahas enne võistlust treeneri kätte\, ka ainult teateujujad\nKlubiväliste liikmete osalemine on võimalik eelneval kokkuleppel (voistlus@ujumine.ee). Osavõtutasu on 15 eurot.
URL:https://ujumine.ee/event/maitahekesed-2/
LOCATION:Aura veekeskus (25m)\, Tartu\, Estonia
CATEGORIES:Võistlused
ATTACH;FMTTYPE=image/jpeg:https://ujumine.ee/wp-content/uploads/2024/11/Maitahekesed2024-9-scaled.jpg
END:VEVENT
BEGIN:VEVENT
DTSTART;TZID=Europe/Moscow:20260510T110000
DTEND;TZID=Europe/Moscow:20260510T170000
DTSTAMP:20260425T162622
CREATED:20260109T121200Z
LAST-MODIFIED:20260318T160223Z
UID:16565-1778410800-1778432400@ujumine.ee
SUMMARY:Uju ja Jookse IV etapp
DESCRIPTION:Üldjuhend
URL:https://ujumine.ee/event/uju-ja-jookse-iv-etapp/
LOCATION:Tabasalu\, Kooli tn 1c\, Tabasalu\, Harjumaa\, 76901\, Estonia
CATEGORIES:Võistlused
ATTACH;FMTTYPE=image/jpeg:https://ujumine.ee/wp-content/uploads/2026/01/Henry_Rappo.jpg
END:VEVENT
BEGIN:VEVENT
DTSTART;TZID=Europe/Moscow:20260515T080000
DTEND;TZID=Europe/Moscow:20260517T170000
DTSTAMP:20260425T162622
CREATED:20251229T070725Z
LAST-MODIFIED:20260329T061334Z
UID:16528-1778832000-1779037200@ujumine.ee
SUMMARY:Eesti meistrivõistlused ujumises
DESCRIPTION:Juhend SIIN \nEesti MV normatiivid SIIN
URL:https://ujumine.ee/event/eesti-meistrivoistlused-ujumises/
LOCATION:Aura veekeskus (50m)\, Tartu\, Estonia
CATEGORIES:Võistlused
END:VEVENT
BEGIN:VEVENT
DTSTART;VALUE=DATE:20260523
DTEND;VALUE=DATE:20260524
DTSTAMP:20260425T162622
CREATED:20251229T063258Z
LAST-MODIFIED:20251229T063258Z
UID:16504-1779494400-1779580799@ujumine.ee
SUMMARY:Speedo Räimeralli II etapp 23.05.2026
DESCRIPTION:Juhend SIIN
URL:https://ujumine.ee/event/speedo-raimeralli-ii-etapp-23-05-2026/
LOCATION:Aura veekeskus (25m)\, Tartu\, Estonia
CATEGORIES:Võistlused
END:VEVENT
BEGIN:VEVENT
DTSTART;VALUE=DATE:20260606
DTEND;VALUE=DATE:20260607
DTSTAMP:20260425T162622
CREATED:20260109T121632Z
LAST-MODIFIED:20260109T121632Z
UID:16568-1780704000-1780790399@ujumine.ee
SUMMARY:Eesti masters-ujumise meistrivõistlused
DESCRIPTION:
URL:https://ujumine.ee/event/eesti-masters-ujumise-meistrivoistlused/
LOCATION:Aura veekeskus (50m)\, Tartu\, Estonia
CATEGORIES:Võistlused
END:VEVENT
BEGIN:VEVENT
DTSTART;VALUE=DATE:20260606
DTEND;VALUE=DATE:20260607
DTSTAMP:20260425T162622
CREATED:20260226T103438Z
LAST-MODIFIED:20260226T104502Z
UID:16686-1780704000-1780790399@ujumine.ee
SUMMARY:XII Keila JuniorTurbo Cup
DESCRIPTION:
URL:https://ujumine.ee/event/xii-keila-juniorturbo-cup/
LOCATION:keila
CATEGORIES:Võistlused
END:VEVENT
BEGIN:VEVENT
DTSTART;VALUE=DATE:20260606
DTEND;VALUE=DATE:20260607
DTSTAMP:20260425T162622
CREATED:20260318T154733Z
LAST-MODIFIED:20260318T154733Z
UID:16734-1780704000-1780790399@ujumine.ee
SUMMARY:Coop Tõrva triatlon
DESCRIPTION:Registreerumine
URL:https://ujumine.ee/event/coop-torva-triatlon/
CATEGORIES:Võistlused
END:VEVENT
BEGIN:VEVENT
DTSTART;VALUE=DATE:20260613
DTEND;VALUE=DATE:20260614
DTSTAMP:20260425T162622
CREATED:20260109T115501Z
LAST-MODIFIED:20260109T115501Z
UID:16551-1781308800-1781395199@ujumine.ee
SUMMARY:EUL Noortesarja Sportland etapp
DESCRIPTION:Üldjuhend
URL:https://ujumine.ee/event/eul-noortesarja-sportland-etapp/
LOCATION:Pärnu
CATEGORIES:Võistlused
END:VEVENT
BEGIN:VEVENT
DTSTART;VALUE=DATE:20260621
DTEND;VALUE=DATE:20260622
DTSTAMP:20260425T162622
CREATED:20260318T154917Z
LAST-MODIFIED:20260318T154917Z
UID:16736-1782000000-1782086399@ujumine.ee
SUMMARY:Valga triatlon
DESCRIPTION:Registreerumine
URL:https://ujumine.ee/event/valga-triatlon/
CATEGORIES:Võistlused
END:VEVENT
BEGIN:VEVENT
DTSTART;VALUE=DATE:20260627
DTEND;VALUE=DATE:20260628
DTSTAMP:20260425T162622
CREATED:20260109T121745Z
LAST-MODIFIED:20260109T121745Z
UID:16570-1782518400-1782604799@ujumine.ee
SUMMARY:XXV Arena Keila Cup
DESCRIPTION:
URL:https://ujumine.ee/event/xxv-arena-keila-cup/
LOCATION:Keila (25m)\, Keila\, Estonia
CATEGORIES:Võistlused
END:VEVENT
BEGIN:VEVENT
DTSTART;TZID=Europe/Moscow:20260629T080000
DTEND;TZID=Europe/Moscow:20260630T170000
DTSTAMP:20260425T162622
CREATED:20260109T122011Z
LAST-MODIFIED:20260226T103336Z
UID:16574-1782720000-1782838800@ujumine.ee
SUMMARY:Põhjamaade noorte MV ujumises - Oslos (NOR)
DESCRIPTION:
URL:https://ujumine.ee/event/pohjamaade-noorte-mv-2/
CATEGORIES:Võistlused
END:VEVENT
BEGIN:VEVENT
DTSTART;VALUE=DATE:20260704
DTEND;VALUE=DATE:20260705
DTSTAMP:20260425T162622
CREATED:20260318T155031Z
LAST-MODIFIED:20260318T155038Z
UID:16738-1783123200-1783209599@ujumine.ee
SUMMARY:Maardu triatlon
DESCRIPTION:
URL:https://ujumine.ee/event/maardu-triatlon/
CATEGORIES:Võistlused
END:VEVENT
BEGIN:VEVENT
DTSTART;TZID=Europe/Moscow:20260707T080000
DTEND;TZID=Europe/Moscow:20260712T170000
DTSTAMP:20260425T162622
CREATED:20260109T121911Z
LAST-MODIFIED:20260410T190447Z
UID:16572-1783411200-1783875600@ujumine.ee
SUMMARY:Euroopa juunioride meistrivõistlused ujumises
DESCRIPTION:Juhend
URL:https://ujumine.ee/event/euroopa-juunioride-meistrivoistlused-ujumises/
CATEGORIES:Võistlused
END:VEVENT
BEGIN:VEVENT
DTSTART;TZID=Europe/Moscow:20260714T080000
DTEND;TZID=Europe/Moscow:20260715T170000
DTSTAMP:20260425T162622
CREATED:20260109T122156Z
LAST-MODIFIED:20260109T122156Z
UID:16576-1784016000-1784134800@ujumine.ee
SUMMARY:Eesti Karikavõistlused
DESCRIPTION:
URL:https://ujumine.ee/event/eesti-karikavoistlused-3/
LOCATION:Tallinn
CATEGORIES:Võistlused
END:VEVENT
BEGIN:VEVENT
DTSTART;TZID=Europe/Moscow:20260723T080000
DTEND;TZID=Europe/Moscow:20260726T170000
DTSTAMP:20260425T162622
CREATED:20260109T122251Z
LAST-MODIFIED:20260109T122251Z
UID:16578-1784793600-1785085200@ujumine.ee
SUMMARY:Juunioride EM avaveeujumises
DESCRIPTION:
URL:https://ujumine.ee/event/juunioride-em-avaveeujumises/
CATEGORIES:Võistlused
END:VEVENT
BEGIN:VEVENT
DTSTART;VALUE=DATE:20260725
DTEND;VALUE=DATE:20260726
DTSTAMP:20260425T162622
CREATED:20260109T122338Z
LAST-MODIFIED:20260109T122338Z
UID:16580-1784937600-1785023999@ujumine.ee
SUMMARY:33. Üle väikse väina ujumine
DESCRIPTION:
URL:https://ujumine.ee/event/33-ule-vaikse-vaina-ujumine/
CATEGORIES:Võistlused
END:VEVENT
BEGIN:VEVENT
DTSTART;VALUE=DATE:20260726
DTEND;VALUE=DATE:20260727
DTSTAMP:20260425T162622
CREATED:20260318T155155Z
LAST-MODIFIED:20260318T155155Z
UID:16740-1785024000-1785110399@ujumine.ee
SUMMARY:Otepää triatlon
DESCRIPTION:
URL:https://ujumine.ee/event/otepaa-triatlon/
CATEGORIES:Võistlused
END:VEVENT
BEGIN:VEVENT
DTSTART;TZID=Europe/Moscow:20260731T080000
DTEND;TZID=Europe/Moscow:20260816T170000
DTSTAMP:20260425T162622
CREATED:20260109T122429Z
LAST-MODIFIED:20260109T122429Z
UID:16582-1785484800-1786899600@ujumine.ee
SUMMARY:EM avaveeujumises
DESCRIPTION:
URL:https://ujumine.ee/event/em-avaveeujumises/
CATEGORIES:Võistlused
END:VEVENT
BEGIN:VEVENT
DTSTART;TZID=Europe/Moscow:20260801T080000
DTEND;TZID=Europe/Moscow:20260806T170000
DTSTAMP:20260425T162622
CREATED:20251229T082750Z
LAST-MODIFIED:20251229T083516Z
UID:16530-1785571200-1786035600@ujumine.ee
SUMMARY:Laste mängud Taiwanis
DESCRIPTION:Laste Mängud \nTartu linna esindavad 2026 aastal Taiwanis 5 ujujat (kogu delegatsioon 18 inimest)
URL:https://ujumine.ee/event/laste-mangud-taiwanis/
CATEGORIES:Võistlused
END:VEVENT
BEGIN:VEVENT
DTSTART;VALUE=DATE:20260809
DTEND;VALUE=DATE:20260810
DTSTAMP:20260425T162622
CREATED:20260318T155327Z
LAST-MODIFIED:20260318T155336Z
UID:16742-1786233600-1786319999@ujumine.ee
SUMMARY:Türi triatlon
DESCRIPTION:
URL:https://ujumine.ee/event/turi-triatlon/
CATEGORIES:Võistlused
END:VEVENT
BEGIN:VEVENT
DTSTART;TZID=Europe/Moscow:20260810T080000
DTEND;TZID=Europe/Moscow:20260816T170000
DTSTAMP:20260425T162622
CREATED:20260109T122523Z
LAST-MODIFIED:20260109T122523Z
UID:16584-1786348800-1786899600@ujumine.ee
SUMMARY:Euroopa MV ujumises
DESCRIPTION:
URL:https://ujumine.ee/event/euroopa-mv-ujumises/
LOCATION:Pariis
CATEGORIES:Võistlused
END:VEVENT
BEGIN:VEVENT
DTSTART;TZID=Europe/Moscow:20260810T130000
DTEND;TZID=Europe/Moscow:20260814T130000
DTSTAMP:20260425T162622
CREATED:20260318T160909Z
LAST-MODIFIED:20260416T055657Z
UID:16748-1786366800-1786712400@ujumine.ee
SUMMARY:Kääriku suvelaager 10-14.08.2026
DESCRIPTION:Ujumise Spordiklubi suvelaager Käärikul 10.-14. august 2026 \n  \nInfokiri SIIN \nRegistreeru laagrisse SIIN
URL:https://ujumine.ee/event/kaariku-suvelaager-3/
LOCATION:Kääriku
CATEGORIES:Üritused
ATTACH;FMTTYPE=image/jpeg:https://ujumine.ee/wp-content/uploads/2026/03/Treenerid_USK.jpg
END:VEVENT
BEGIN:VEVENT
DTSTART;TZID=Europe/Moscow:20260912T080000
DTEND;TZID=Europe/Moscow:20260912T170000
DTSTAMP:20260425T162622
CREATED:20260109T122645Z
LAST-MODIFIED:20260109T122645Z
UID:16586-1789200000-1789232400@ujumine.ee
SUMMARY:Tartu linna meistrivõistlused
DESCRIPTION:
URL:https://ujumine.ee/event/tartu-linna-meistrivoistlused-2/
LOCATION:Aura veekeskus (25m)\, Tartu\, Estonia
CATEGORIES:Võistlused
END:VEVENT
BEGIN:VEVENT
DTSTART;TZID=Europe/Moscow:20260912T080000
DTEND;TZID=Europe/Moscow:20260913T170000
DTSTAMP:20260425T162622
CREATED:20260331T100645Z
LAST-MODIFIED:20260331T100825Z
UID:16792-1789200000-1789318800@ujumine.ee
SUMMARY:EUL treenerite sügisseminar Kuremaa lossikompleksis
DESCRIPTION:EUL iga-aastane Sügisseminar toimub toimub 12.-13.septembril kaunis Kuremaa lossikompleksis Jõgevamaal. \nEUL ootab soove ja mõtteid Sügisseminari teemade ning esinejate osas.
URL:https://ujumine.ee/event/eul-treenerite-sugisseminar-kuremaa-lossikompleksis/
CATEGORIES:Üritused
ATTACH;FMTTYPE=image/jpeg:https://ujumine.ee/wp-content/uploads/2026/03/Treenerid_USK.jpg
END:VEVENT
END:VCALENDAR