BEGIN:VCALENDAR
VERSION:2.0
PRODID:-//Ujumise Spordiklubi - ECPv6.14.0//NONSGML v1.0//EN
CALSCALE:GREGORIAN
METHOD:PUBLISH
X-WR-CALNAME:Ujumise Spordiklubi
X-ORIGINAL-URL:https://ujumine.ee
X-WR-CALDESC:Events for Ujumise Spordiklubi
REFRESH-INTERVAL;VALUE=DURATION:PT1H
X-Robots-Tag:noindex
X-PUBLISHED-TTL:PT1H
BEGIN:VTIMEZONE
TZID:Europe/Moscow
BEGIN:STANDARD
TZOFFSETFROM:+0300
TZOFFSETTO:+0300
TZNAME:MSK
DTSTART:20240101T000000
END:STANDARD
END:VTIMEZONE
BEGIN:VEVENT
DTSTART;TZID=Europe/Moscow:20241021T113000
DTEND;TZID=Europe/Moscow:20241025T120000
DTSTAMP:20260425T184457
CREATED:20241011T102034Z
LAST-MODIFIED:20241015T070148Z
UID:15053-1729510200-1729857600@ujumine.ee
SUMMARY:Haapsalu sügislaager 21.-25. oktoober 2024 (treener Diana)
DESCRIPTION:Haapsalu sügislaager 21.-25. oktoober 2024 \nTreeningud: \n\nUjumine 09:00-11:00\nÜKE 11.20-12.30\nÜKE 16:00-17:15\nUjumine 17:30-19:00\n\nPeatreener Diana Päslane diana@ujumine.ee/ +372 5348-8332 \n\nToitlustamine 3 x päevas\n\nHommikusöök kl 8:00\nLõunasöök kl 13:00\n\nv.a. saabumise päeval kl 15:30 ja lahkumise päeval kl 12:00\n\n\nÕhtusöök kl 19:15\n\n\nLaagri maksumus 200 EUR\nBuss väljub laagrisse Aura Keskuse eest E\, 21. oktoobril  kl 11:30
URL:https://ujumine.ee/event/haapsalulaager-2024/
LOCATION:Haapsalu Spordibaasid\, Lihula mnt 10\, Haapsalu\, Läänemaa\, 90507\, Estonia
CATEGORIES:Üritused
ATTACH;FMTTYPE=image/jpeg:https://ujumine.ee/wp-content/uploads/2024/10/Haapsalu_laager-e1728641832404.jpg
END:VEVENT
BEGIN:VEVENT
DTSTART;TZID=Europe/Moscow:20241021T080000
DTEND;TZID=Europe/Moscow:20241031T170000
DTSTAMP:20260425T184457
CREATED:20241014T043958Z
LAST-MODIFIED:20241030T154354Z
UID:15065-1729497600-1730394000@ujumine.ee
SUMMARY:Gümnasiaad Bahreinis 21.-31.10.2024
DESCRIPTION:Gümnasiaad Bahreinis 21.-31.10.2024 \n\nESTONIA_results\nTULEMUSED \n\nTulemused: I päev \nFINAALID \n\n4X100 M-FREESTYLE RELAY MEN\n4X100 M-FREESTYLE RELAY WOMEN\n50 M-BREASTSTROKE MEN\n50 M-BREASTSTROKE WOMEN\n100 M-Backstroke Men\n100M-Backstroke Women\n400 M-INDIVIDUAL MEDLEY MEN\n400M-Individual Medley Women\n\nEELUJUMISED \n\n4X100 M FREESTYLE RELAY MEN_1\n4X100 M FREESTYLE RELAY WOMEN_1\n50 m Breaststroke Women_1\n50m Breaststroke Men_1\n100m Backstroke Men_1\n100m Backstroke women_1\n200m Freestyle Men_1\n200m freestyle women -2_1\n400m Individual Medley Men_1\n400m Individual Medley Women_1\n\nLennud Ujumise Spordiklubi ujujatel: pagas 30 kg + 8 kg + isiklik ese \n\nTK1422 21.10.2024  TLL-IST    12.35 -16.15\nTK 778 21.10.2024  IST-BAH   20.15 – 00.15* (22.10.2024)\nTK 779 31.10.2024  BAH-IST   02.35 – 07.05\nTK1423 31.10.2024  IST-TLL   15.00 – 17.40\n\nKaasa: \n\npass\nviisa\nlapsevanema volitus (alaealisel\, s.o. alla 18)\nreisikindlustus\nconsent form (allkirjastatud)\nvõistlusriided\n\nGümnasiaad: \n\nUjumise reeglid ja regulatsioonid SIIN\nISF Gymnaside Bahrain 2024 – Handbook\n\nSisaldab saabumist\, akrediteerimist\, majutust\, transporti\, võistlust\, vaba aega jm olulist infot\n\n\nGümnasiaad 2024 Bahrein info 14_10_2024 (Madis)\nBulletin 2 – ISF Gymnasiade Bahrain 2024 _\nBulletin 1- ISF Gymnasiade Bahrain 2024\n\n\n\n\nReede 25.10\nLaupäev 26.10\nPühapäev 27.10.24\nEsmaspäev 28.10\nTeisipäev 29.10\n\n\n200m vabalt\n200m liblikat\noff\n800m vabalt õhtul Final\n100m liblikat\n\n\n100 selili\n100m rinnuli\noff\n200m kompleksi\n400m vabalt\n\n\n400m kompleksi\n50 selili\noff\n100m vabalt  \n200m selili\n\n\n50m rinnuli\n800m vabalt hommikul eelujumised\noff\n200m rinnuli  \n50m vabalt\n\n\n4*100 vabalt\n4*100 kompleks\noff\n50m liblikat  \n4*100 Mix kompleks\n\n\n \n \n\n4*100 vabalt Mix\n 
URL:https://ujumine.ee/event/gumnasiaad-bahrein-2024/
CATEGORIES:Üritused
ATTACH;FMTTYPE=image/jpeg:https://ujumine.ee/wp-content/uploads/2024/10/Bahrain.jpg
END:VEVENT
BEGIN:VEVENT
DTSTART;TZID=Europe/Moscow:20241019T110000
DTEND;TZID=Europe/Moscow:20241019T170000
DTSTAMP:20260425T184457
CREATED:20241014T134228Z
LAST-MODIFIED:20241020T091940Z
UID:15071-1729335600-1729357200@ujumine.ee
SUMMARY:Räimeralli III etapp - 19.10.24
DESCRIPTION:Räimeralli III etapp – 19.10.24 \n\nTulemused SIIN\nLIVE SIIN\nSwimrankings USK SIIN\n\nJuhend SIIN \nStardimaks 9 EUR/start
URL:https://ujumine.ee/event/raimeralli-iii-etapp/
CATEGORIES:Võistlused
ATTACH;FMTTYPE=image/jpeg:https://ujumine.ee/wp-content/uploads/2024/10/Raimeralli_2024.jpg
END:VEVENT
BEGIN:VEVENT
DTSTART;TZID=Europe/Moscow:20241018T100000
DTEND;TZID=Europe/Moscow:20241019T170000
DTSTAMP:20260425T184457
CREATED:20240926T043820Z
LAST-MODIFIED:20241015T070200Z
UID:15033-1729245600-1729357200@ujumine.ee
SUMMARY:Daniel Wartner (Austria Olümpiakeskuse eliitgrupi treener) seminar
DESCRIPTION:Info \n18.-19. oktoobril 2024.a on Eestis koolitust läbi viimas Austria Olümpiakeskuse eliitgrupi treener ja lektor Daniel Wartner. \nSeminar toimub kell 10:00 – 17:00 FORUS Tondi Spordikeskuses\, aadressil Sõjakooli 10\, Tallinn. Lavendli saalis. \n Koolitus on keskendunud noorte ja juunioride saavutusspordi teemadele: \n\nDifferent training models\nControl of the process\nSpecialization vs. Specificity in Youth & Junior Swimming\nRelationship between coach and athlete\n\nSeminar toimub inglise keeles\, suunatud võistlusspordiga tegelevatele treeneritele (olenemata vanusest)\, kuid oodatud on kõik. \n16 ak täiendkoolituse tundi \n  \nSeminari päevakava: \n18.oktoober \n\n10:00 – My Philosophy on Swimming & Coaching\n11:30 – Coffee Break\n12:00 – LTAD/FTEM model comparison\n13:00 – Lunch\n14:30 – Polarized Training vs Pyramid Training\n15:45 – Coffee Break\n16:15 – Control process of the Total Load\n17:00 – Home\n\n19.oktoober \n\n10:00 – Specialization vs. Specificity in Youth & Junior Swimming\n11:30 – Coffee Break\n12:00 – 50 – 100m Races\n13:15 – Lunch\n14:45 – Coach-athlete Relationship\n15:45 – Coffee Break\n16:15 – Questions/Discussion\n17:00 – Home\n\nOsalustasu  – 129 eur (üks päev 70 eur) Eesti Ujumisliit EE507700771008840232 \nRegistreerimise tähtaeg 12.10.24 SIIN LINGIL \nLõunasöögid saab ette tellida enne koolituse algust esimesel korrusel kohviku kassast. \nLisainfo – Pille Aule\, tel 53 498496\, pille@swimming.ee \nMajutuspaketid: \nErihinnad kehtivad seminari osalejatele märksõna UJUMISLIIT mainimisel. Kuupäevadel 17.-20.10.2024 \nOIümpia (Liivalaia 33) 4*+ \nSGL standard: 88 EUR tuba öö \nHinnas sisaldub: majutus (1 öö)\, buffet hommikusöök\, Club26 kasutus (jõusaal\, sauna- ja basseiniala)\, WiFi\, KM. \nPark Inn Central (Narva mnt 7c) 4* \nSGL standard: 62 EUR tuba öö \nHinnas sisaldub: majutus (1 öö)\, buffet hommikusöök\, WiFi\, KM.
URL:https://ujumine.ee/event/daniel-wartner-austria-olumpiakeskuse-eliitgrupi-treener-seminar/
LOCATION:Tondi Spordikeskus\, Sõjakooli 10\, Tallinn\, Estonia
CATEGORIES:Üritused
ATTACH;FMTTYPE=image/jpeg:https://ujumine.ee/wp-content/uploads/2024/09/AUT.jpg
END:VEVENT
BEGIN:VEVENT
DTSTART;TZID=Europe/Moscow:20241016T150000
DTEND;TZID=Europe/Moscow:20241016T170000
DTSTAMP:20260425T184457
CREATED:20241015T045831Z
LAST-MODIFIED:20241015T070204Z
UID:15108-1729090800-1729098000@ujumine.ee
SUMMARY:Tallinna mitmevõistlus ujumises 16.10.2024
DESCRIPTION:Tallinna mitmevõistlus ujumises 16.10.2024 \nLIVE tulemused \nStardiprotokoll
URL:https://ujumine.ee/event/tallinna-mitmevoistlus-ujumises-16-10-2024/
CATEGORIES:Võistlused
ATTACH;FMTTYPE=image/jpeg:https://ujumine.ee/wp-content/uploads/2024/10/artjom-e1728968294160.jpg
END:VEVENT
BEGIN:VEVENT
DTSTART;TZID=Europe/Moscow:20241012T120000
DTEND;TZID=Europe/Moscow:20241012T180000
DTSTAMP:20260425T184457
CREATED:20240718T042927Z
LAST-MODIFIED:20241011T072108Z
UID:1192-1728734400-1728756000@ujumine.ee
SUMMARY:Noortesarja IV etapp Aura Keskuses
DESCRIPTION:Bassein: 25 m\, ajavõtt: pool-elektrooniline \nJuhend \n\nStartlist\nEntrylist
URL:https://ujumine.ee/event/noortesarja-iv-etapp/
LOCATION:Aura veekeskus (25m)\, Tartu\, Estonia
CATEGORIES:Võistlused
ATTACH;FMTTYPE=image/jpeg:https://ujumine.ee/wp-content/uploads/2021/10/20211003_113831-scaled-1-e1728631164126.jpg
END:VEVENT
BEGIN:VEVENT
DTSTART;VALUE=DATE:20241011
DTEND;VALUE=DATE:20241013
DTSTAMP:20260425T184457
CREATED:20240718T042911Z
LAST-MODIFIED:20241011T072707Z
UID:1185-1728604800-1728777599@ujumine.ee
SUMMARY:Põhjamaade mastersujumise meistrivõistlused
DESCRIPTION:Põhjamaade mastersujumise meistrivõistlused \nTulemused\, ülesandmised\, sportlased\, klubid – info SIIN \n11.-12.10.2024 on Põhjamaade meistrivõistlustel  Malmös stardis meie mastersujuja Maria Aasmets.\nCa 480 sportlase ja 1600 stardi hulgas on 11 eestlast (6 naist ja 5 meest)\, kes teevad kokku 41 individuaalset ja 4 teatevõistluste starti.
URL:https://ujumine.ee/event/pohjamaade-mastersujumise-meistrivoistlused/
CATEGORIES:Võistlused
ATTACH;FMTTYPE=image/jpeg:https://ujumine.ee/wp-content/uploads/2024/07/Maria_Pallas-e1728631613545.jpg
END:VEVENT
BEGIN:VEVENT
DTSTART;VALUE=DATE:20241004
DTEND;VALUE=DATE:20241007
DTSTAMP:20260425T184457
CREATED:20240718T042912Z
LAST-MODIFIED:20240909T125641Z
UID:1188-1728000000-1728259199@ujumine.ee
SUMMARY:Eesti karikavõistlused ujumises Kohtla-Järvel
DESCRIPTION:Juhend\nKohtla-Järvel Wiru Spordikeskuses\, 25 m basseinis \nUSKi majutus Virumaa hostelis
URL:https://ujumine.ee/event/eesti-karikavoistlused/
LOCATION:Kohtla-Järve\, Järveküla tee 41\, Kohtla-Järve\, Estonia
CATEGORIES:Võistlused
ATTACH;FMTTYPE=image/jpeg:https://ujumine.ee/wp-content/uploads/2024/07/Nikita_Andreas_Kristo_Artjom.jpg
END:VEVENT
BEGIN:VEVENT
DTSTART;TZID=Europe/Moscow:20240928T080000
DTEND;TZID=Europe/Moscow:20240929T170000
DTSTAMP:20260425T184457
CREATED:20240903T071844Z
LAST-MODIFIED:20240903T073453Z
UID:14973-1727510400-1727629200@ujumine.ee
SUMMARY:“Septembra starti” Riias 28.-29.09.2024
DESCRIPTION:“Septembra starti” Riias 28.-29.09.2024 \nJuhend \nPaketi hind: 60 EUR \n\nMajutus hotellis Islande (hommikusöök)\nTransport bussiga Tartu – Riia – Tartu\n\nLisanduvad stardimaksud a´9 EUR \n28.sept. stardid 14.30 (soojendus – 30 min enne starte) \n50m br./st. (mehed\, naised)\n100m brass (meitenes\, zēni)\n50m tauriņstils (meitenes\, zēni)\n100m uz muguras (meitenes\, zēni)\n200m br./st. (meitenes\, zēni)\n29.sept. stardid 11.00 (soojendus – 30 min enne starte) \n50m uz muguras (meitenes\, zēni)\n100m tauriņstils (meitenes\, zēni)\n50m brass (meitenes\, zēni)\n100m br./st. (meitenes\, zēni)\n200m komplekss (meitenes\, zēni) \nVanuseklassid: \n\nI Grupp: 2015 ja nooremad\nII Grupa: 2014.-2013\nII Grupa: 2012.-2011\nIII Grupa: 2010.-2007\n\n 
URL:https://ujumine.ee/event/septembra-starti-riias-28-29-09-2024/
LOCATION:Riia\, Kipsala\, Kipsalas iela 5\, Riia\, Kipsala\, Latvia
ATTACH;FMTTYPE=image/jpeg:https://ujumine.ee/wp-content/uploads/2024/09/EST_team.jpg
END:VEVENT
BEGIN:VEVENT
DTSTART;VALUE=DATE:20240928
DTEND;VALUE=DATE:20240930
DTSTAMP:20260425T184457
CREATED:20240718T042740Z
LAST-MODIFIED:20240903T070307Z
UID:1167-1727481600-1727654399@ujumine.ee
SUMMARY:Aura Open Cup - 28.-29.09.2024
DESCRIPTION:Aura Open Cup – 28.-29.09.2024  \nBassein: 25 m\, automaatne ajavõtt \nJuhend
URL:https://ujumine.ee/event/aura-open-cup/
LOCATION:Aura veekeskus (25m)\, Tartu\, Estonia
CATEGORIES:Võistlused
ATTACH;FMTTYPE=image/jpeg:https://ujumine.ee/wp-content/uploads/2024/07/TartuTahed23-134-scaled-e1722979516586.jpg
END:VEVENT
BEGIN:VEVENT
DTSTART;VALUE=DATE:20240928
DTEND;VALUE=DATE:20240929
DTSTAMP:20260425T184457
CREATED:20240731T174837Z
LAST-MODIFIED:20240731T174837Z
UID:2716-1727481600-1727567999@ujumine.ee
SUMMARY:Kohtla-Järve pikamaaujumise MV
DESCRIPTION:Toimumiskoht: Kohtla-Järve \nBassein: 25 m \nAjavõtt: elektrooniline
URL:https://ujumine.ee/event/kohtla-jarve-pikamaaujumise-mv/
LOCATION:Kohtla-Järve\, Järveküla tee 41\, Kohtla-Järve\, Estonia
CATEGORIES:Võistlused
END:VEVENT
BEGIN:VEVENT
DTSTART;VALUE=DATE:20240928
DTEND;VALUE=DATE:20240929
DTSTAMP:20260425T184457
CREATED:20240718T042857Z
LAST-MODIFIED:20240731T174621Z
UID:1182-1727481600-1727567999@ujumine.ee
SUMMARY:Kuldne Sügis
DESCRIPTION:Bassein: 25 m
URL:https://ujumine.ee/event/kuldne-sugis/
LOCATION:Sillamäe
CATEGORIES:Võistlused
END:VEVENT
BEGIN:VEVENT
DTSTART;VALUE=DATE:20240921
DTEND;VALUE=DATE:20240922
DTSTAMP:20260425T184457
CREATED:20240718T042741Z
LAST-MODIFIED:20240806T212055Z
UID:1170-1726876800-1726963199@ujumine.ee
SUMMARY:LEN avaveeujumise V etapp
DESCRIPTION:Toimumiskoht: Ražanac\, Horvaatia
URL:https://ujumine.ee/event/len-avaveeujumise-v-etapp/
ATTACH;FMTTYPE=image/jpeg:https://ujumine.ee/wp-content/uploads/2024/07/stardis.jpg
END:VEVENT
BEGIN:VEVENT
DTSTART;VALUE=DATE:20240921
DTEND;VALUE=DATE:20240922
DTSTAMP:20260425T184457
CREATED:20240718T042741Z
LAST-MODIFIED:20240923T180502Z
UID:1172-1726876800-1726963199@ujumine.ee
SUMMARY:Tartu pikamaaujumine
DESCRIPTION:Formaat: kutsetega\nBassein: 25 m\nStartlist: SIIN\nLive results \nTulemused\n\nJuhend \nI osa:   stardid kl. 11:00\, sissepääs 10:00 \n\n100 m vabalt – T\, P  2016 ja nooremad\n200 m vabalt – T\, P  2015\n400 m vabalt – T\, P  2014; T\, P – 2013\n\nII osa:   stardid kl. 13:30\, sissepääs 12:30 \n\n800 m vabalt – T\, P  2012 – 2011; T  2010 – 2009; N 2008 ja vanemad\n1500 m vabalt – P  2010 – 2009; P  2008 – 2007; M 2006 ja vanemad
URL:https://ujumine.ee/event/tartu-pikamaaujumine/
LOCATION:Aura veekeskus (25m)\, Tartu\, Estonia
CATEGORIES:Võistlused
ATTACH;FMTTYPE=image/jpeg:https://ujumine.ee/wp-content/uploads/2024/07/1H5A0186-scaled.jpg
END:VEVENT
BEGIN:VEVENT
DTSTART;TZID=Europe/Moscow:20240920T150000
DTEND;TZID=Europe/Moscow:20240922T130000
DTSTAMP:20260425T184457
CREATED:20240903T063916Z
LAST-MODIFIED:20240903T065142Z
UID:14962-1726844400-1727010000@ujumine.ee
SUMMARY:EUL noorte järelkasvu laager 20.-22.09.2024 Keilas
DESCRIPTION:EUL noorte ujujate järelkasvu laager 20.09 kl. 15:00 -22.09.2024 kl. 13:00 Keilas \nEesmärk: pakkuda võimalust omandada uusi teadmisi ja oskusi\, tutvuda uute tehnika nippidega ning saada ülevaade oma hetkeseisust ja arenguvõimalustest. Soodustada noorte vahelist kogemuste vahetamist ja koostööd\, et toetada nende isiklikku arengut. \nLaagrisse oodatakse kuni 30 noorujujat. Päevaplaan \nSportlase osalemisest palun anda teada kuni  13.sept. 2024 aivi.kulla@gmail.com \nUSKist laagrisse kutse saanud ujujad \n\nIsabel Annus USK\nGerd Johan Lessing USK\nSheril Tankler  USK\nAdeele Roop USK\nMirtel Merimaa  USK
URL:https://ujumine.ee/event/eul-noorte-ujujate-jarelkasvu-laager-20-22-09-2024-keilas/
LOCATION:keila
ATTACH;FMTTYPE=image/jpeg:https://ujumine.ee/wp-content/uploads/2024/09/420548746_897681192144773_8387396354651088139_n.jpg
END:VEVENT
BEGIN:VEVENT
DTSTART;VALUE=DATE:20240914
DTEND;VALUE=DATE:20240915
DTSTAMP:20260425T184457
CREATED:20240718T042756Z
LAST-MODIFIED:20240806T211619Z
UID:1177-1726272000-1726358399@ujumine.ee
SUMMARY:LEN avaveeujumise IV etapp
DESCRIPTION:Toimumiskoht: Belgrad\, Serbia
URL:https://ujumine.ee/event/len-avaveeujumise-iv-etapp/
ATTACH;FMTTYPE=image/jpeg:https://ujumine.ee/wp-content/uploads/2024/07/giulia_gabbrielleschi_of_italy_dbm_9go4283_20230715_1654815340.jpg
END:VEVENT
BEGIN:VEVENT
DTSTART;VALUE=DATE:20240914
DTEND;VALUE=DATE:20240915
DTSTAMP:20260425T184457
CREATED:20240718T042756Z
LAST-MODIFIED:20240914T171346Z
UID:1175-1726272000-1726358399@ujumine.ee
SUMMARY:Tartu linna meistrivõistlused
DESCRIPTION:Formaat: kinnine\nBassein: 25 m\, Ajavõtt: pool-elekrooniline \n\nTulemused (pdf)\nSwimrankings.net\n\nJuhend\nStardiprotokoll\n\n\nLIVE\n\n 
URL:https://ujumine.ee/event/tartu-linna-meistrivoistlused/
LOCATION:Aura veekeskus (25m)\, Tartu\, Estonia
CATEGORIES:Võistlused
ATTACH;FMTTYPE=image/jpeg:https://ujumine.ee/wp-content/uploads/2024/07/USKi_noored_Tartu_MV.jpg
END:VEVENT
BEGIN:VEVENT
DTSTART;VALUE=DATE:20240907
DTEND;VALUE=DATE:20240909
DTSTAMP:20260425T184457
CREATED:20240718T042741Z
LAST-MODIFIED:20240806T204749Z
UID:1173-1725667200-1725839999@ujumine.ee
SUMMARY:Eesti Ujumisliidu sügisseminar
DESCRIPTION:
URL:https://ujumine.ee/event/sugisseminar/
LOCATION:Toosikannu
CATEGORIES:Üritused
ATTACH;FMTTYPE=image/jpeg:https://ujumine.ee/wp-content/uploads/2024/07/Mini_2024_Treenerite_teade.jpg
END:VEVENT
BEGIN:VEVENT
DTSTART;VALUE=DATE:20240906
DTEND;VALUE=DATE:20240909
DTSTAMP:20260425T184457
CREATED:20240718T042740Z
LAST-MODIFIED:20240806T211147Z
UID:1168-1725580800-1725839999@ujumine.ee
SUMMARY:Juunioride maailmameistrivõistlused avaveeujumises
DESCRIPTION:Toimumiskoht: Alghero\, Itaalia\nOsaleda saavad sportlased sünd. 2005-2010.
URL:https://ujumine.ee/event/juunioride-maailmameistrivoistlused-avaveeujumises/
LOCATION:Alghero
ATTACH;FMTTYPE=image/jpeg:https://ujumine.ee/wp-content/uploads/2024/07/298723327_602497324725611_2505690544348909919_n.jpg
END:VEVENT
BEGIN:VEVENT
DTSTART;VALUE=DATE:20240831
DTEND;VALUE=DATE:20240901
DTSTAMP:20260425T184457
CREATED:20240718T042927Z
LAST-MODIFIED:20240806T210943Z
UID:1190-1725062400-1725148799@ujumine.ee
SUMMARY:LEN avaveeujumise III etapp
DESCRIPTION:Toimumiskoht: Ohrid\, Makedoonia
URL:https://ujumine.ee/event/len-avaveeujumise-iii-etapp/
LOCATION:Ohrid
ATTACH;FMTTYPE=image/jpeg:https://ujumine.ee/wp-content/uploads/2024/07/Zirk_Gumnasiaad_Brasiilias.jpg
END:VEVENT
BEGIN:VEVENT
DTSTART;VALUE=DATE:20240819
DTEND;VALUE=DATE:20240824
DTSTAMP:20260425T184457
CREATED:20240731T170919Z
LAST-MODIFIED:20240814T095923Z
UID:2701-1724025600-1724457599@ujumine.ee
SUMMARY:Kääriku suvelaager 2024
DESCRIPTION:Kääriku laagri infokiri: SIIN \nMida laagrisse kaasa võtta? \nSisekorraeeskiri: SIIN \nKüsimuste korral võta ühendust Liisaga / 53935212\, liisa@ujumine.ee \nTreenerid laagris: \n\nDiana Kutsareva – 534 88 332 – diana@ujumine.ee\nMarie Lindepuu – 530 43 555 – marie@ujumine.ee\nMonika Krillo – 529 57 80 – monika@ujumine.ee\nAlar Lodi –         567 19991 – alar@ujumine.ee\nKatariina Mäll – 559 83 193 – katariina@ujumine.ee\nGerli Savila – 590 93 099 – gerli@ujumine.ee\nReeli-Marta Siimar – 565 00 976 – reeli@ujumine.ee\nCevin Anders Siim – 580 71 822 – cevin@ujumine.ee\nKelly Kalm – 566 90 997 – kelly@ujumin.ee\n\nRegistreerimisvorm: SIIN
URL:https://ujumine.ee/event/kaariku-suvelaager/
LOCATION:Kääriku
CATEGORIES:Üritused
ATTACH;FMTTYPE=image/jpeg:https://ujumine.ee/wp-content/uploads/2024/07/USKi_treenerid_kaarikul_2020-e1722967890821.jpg
END:VEVENT
BEGIN:VEVENT
DTSTART;VALUE=DATE:20240817
DTEND;VALUE=DATE:20240818
DTSTAMP:20260425T184457
CREATED:20240718T042739Z
LAST-MODIFIED:20240806T204912Z
UID:1166-1723852800-1723939199@ujumine.ee
SUMMARY:G. Otsa mälestusvõistlus\, seeriavõistluse VII etapp
DESCRIPTION:Laupäev\, 17. august. Keskus Tamula rannas.\nDISTANTSID –\nmudilastele esimese poini ja tagasi\,\n300m lastedistants ümber poide paralleelselt kaldaga\,\n600m rahvadistants ümber poide paralleelselt kaldaga\,\n2\,3 km põhidistants üle järve ja tagasi\,\n1\,2 km lühem distants järve keskele ja tagasi. \nTegemist on Eesti avaveeujumise seeriavõistluse hooaja 7. etapiga. \nJUHEND JA REGAMINE ürituse lähenedes! \nKorraldavad: Võrumaa Spordiliit & Eesti Ujumisliit
URL:https://ujumine.ee/event/g-otsa-malestusvoistlus-seeriavoistluse-vii-etapp/
LOCATION:Tamula järv
CATEGORIES:Võistlused
ATTACH;FMTTYPE=image/jpeg:https://ujumine.ee/wp-content/uploads/2024/07/Ujumisvoistluste-pildid-Tamula.jpg
END:VEVENT
BEGIN:VEVENT
DTSTART;VALUE=DATE:20240811
DTEND;VALUE=DATE:20240812
DTSTAMP:20260425T184457
CREATED:20240718T042856Z
LAST-MODIFIED:20240806T210342Z
UID:1181-1723334400-1723420799@ujumine.ee
SUMMARY:Kahe Silla Retk
DESCRIPTION:AJAKAVA: \n10.00-11.30       Registreerimine Uue silla all vasakul kaldal \n11.30                   Instrueerimine \n12.00                  Põhidistantsi Start \n12.30                  Lühikese distantsi Start \n14.30-15.00       Autasustamine \nREGISTREERIMINE ja KÜSIMUSED: marika@ujuma.ee (registreerimisel palume märkida vanus\, sugu ja esindatav klubi/omavalitsus) \nOSAVÕTUMAKS: 15 eurot palume maksta kohapeal \n______________________________________________________________
URL:https://ujumine.ee/event/kahe-silla-retk/
LOCATION:Pärnu
CATEGORIES:Võistlused
ATTACH;FMTTYPE=image/jpeg:https://ujumine.ee/wp-content/uploads/2024/07/parnu_kahe_silla_retk.jpg
END:VEVENT
BEGIN:VEVENT
DTSTART;VALUE=DATE:20240811
DTEND;VALUE=DATE:20240812
DTSTAMP:20260425T184457
CREATED:20240718T042856Z
LAST-MODIFIED:20240806T210803Z
UID:1180-1723334400-1723420799@ujumine.ee
SUMMARY:Eesti avaveeujumise MV 10 km
DESCRIPTION:Juhend \n 
URL:https://ujumine.ee/event/eesti-avaveeujumise-mv-10-km/
LOCATION:Pühajärve
CATEGORIES:Võistlused
ATTACH;FMTTYPE=image/jpeg:https://ujumine.ee/wp-content/uploads/2024/07/sander_ujub.jpg
END:VEVENT
BEGIN:VEVENT
DTSTART;VALUE=DATE:20240810
DTEND;VALUE=DATE:20240811
DTSTAMP:20260425T184457
CREATED:20240718T042741Z
LAST-MODIFIED:20240806T205635Z
UID:1174-1723248000-1723334399@ujumine.ee
SUMMARY:Eesti avaveeujumise MV 4x1\,5 km teateujumises
DESCRIPTION:Juhend\nNB! Mastersite 4×1\,5 km Eesti meistrivõistluste arvestuses saavad osaleda kõik ujujad\, kes kuuluvad vastavasse vanuseklassi\, on määrustepäraselt üles antud ning stardimaksu tasunud. Litsents\, kodakondsus ning klubiline kuuluvus ei ole nõutavad. \nSeega\, kõik harrastusujujad\, kellele järves kas 1\,5 km ujumine on jõukohane\, on oodatud osalema!
URL:https://ujumine.ee/event/eesti-avaveeujumise-mv-4x15-km/
LOCATION:Pühajärve
CATEGORIES:Võistlused
ATTACH;FMTTYPE=image/jpeg:https://ujumine.ee/wp-content/uploads/2024/07/medalid-e1761296151660.jpg
END:VEVENT
BEGIN:VEVENT
DTSTART;VALUE=DATE:20240809
DTEND;VALUE=DATE:20240810
DTSTAMP:20260425T184457
CREATED:20240718T042927Z
LAST-MODIFIED:20240806T205812Z
UID:1193-1723161600-1723247999@ujumine.ee
SUMMARY:4. O.Lukini mälestusvõistlus\, EUL seeriavõistluse VI etapp
DESCRIPTION:Juhend
URL:https://ujumine.ee/event/4-o-lukini-malestusvoistlus-seeriavoistluse-vi-etapp/
LOCATION:Pühajärve
CATEGORIES:Võistlused
ATTACH;FMTTYPE=image/jpeg:https://ujumine.ee/wp-content/uploads/2024/07/366747447_260254020133366_5824915615663029562_n.jpg
END:VEVENT
BEGIN:VEVENT
DTSTART;VALUE=DATE:20240803
DTEND;VALUE=DATE:20240804
DTSTAMP:20260425T184457
CREATED:20240718T042740Z
LAST-MODIFIED:20240731T162605Z
UID:1169-1722643200-1722729599@ujumine.ee
SUMMARY:4. Haapsalu-Österby avaveeujumine\, seeriavõistluse V etapp
DESCRIPTION:Juhend
URL:https://ujumine.ee/event/4-haapsalu-osterby-avaveeujumine-seeriavoistluse-v-etapp/
LOCATION:Haapsalu-Österby
CATEGORIES:Võistlused
END:VEVENT
BEGIN:VEVENT
DTSTART;VALUE=DATE:20240803
DTEND;VALUE=DATE:20240804
DTSTAMP:20260425T184457
CREATED:20240718T042857Z
LAST-MODIFIED:20240731T163044Z
UID:1183-1722643200-1722729599@ujumine.ee
SUMMARY:Lämmijärve ujumine
DESCRIPTION:Infoplakat\nInfo Räpina valla kodulehel
URL:https://ujumine.ee/event/lammijarve-ujumine/
LOCATION:Mehikoorma sadam
CATEGORIES:Võistlused
END:VEVENT
BEGIN:VEVENT
DTSTART;VALUE=DATE:20240728
DTEND;VALUE=DATE:20240729
DTSTAMP:20260425T184457
CREATED:20240718T042756Z
LAST-MODIFIED:20240731T160541Z
UID:1178-1722124800-1722211199@ujumine.ee
SUMMARY:Avamere ujumispäev Kaunispe sadamas
DESCRIPTION:Juhend
URL:https://ujumine.ee/event/avamere-ujumispaev-kaunispe-sadamas/
LOCATION:Kaunsipe sadam
CATEGORIES:Võistlused
END:VEVENT
BEGIN:VEVENT
DTSTART;VALUE=DATE:20240727
DTEND;VALUE=DATE:20240728
DTSTAMP:20260425T184457
CREATED:20240718T042927Z
LAST-MODIFIED:20240731T163132Z
UID:1191-1722038400-1722124799@ujumine.ee
SUMMARY:31. Väikese Väina avaveeujumine\, seeriavõistluse IV etapp
DESCRIPTION:Juhend
URL:https://ujumine.ee/event/31-vaikese-vaina-avaveeujumine-seeriavoistluse-iv-etapp/
LOCATION:Vahtna
CATEGORIES:Võistlused
END:VEVENT
END:VCALENDAR