BEGIN:VCALENDAR
VERSION:2.0
PRODID:-//Ujumise Spordiklubi - ECPv6.14.0//NONSGML v1.0//EN
CALSCALE:GREGORIAN
METHOD:PUBLISH
X-WR-CALNAME:Ujumise Spordiklubi
X-ORIGINAL-URL:https://ujumine.ee
X-WR-CALDESC:Events for Ujumise Spordiklubi
REFRESH-INTERVAL;VALUE=DURATION:PT1H
X-Robots-Tag:noindex
X-PUBLISHED-TTL:PT1H
BEGIN:VTIMEZONE
TZID:Europe/Moscow
BEGIN:STANDARD
TZOFFSETFROM:+0300
TZOFFSETTO:+0300
TZNAME:MSK
DTSTART:20260101T000000
END:STANDARD
END:VTIMEZONE
BEGIN:VEVENT
DTSTART;TZID=Europe/Moscow:20260501T080000
DTEND;TZID=Europe/Moscow:20260503T170000
DTSTAMP:20260424T230412
CREATED:20251229T070504Z
LAST-MODIFIED:20260410T192259Z
UID:16524-1777622400-1777827600@ujumine.ee
SUMMARY:Läti noorte ja juunioride meistrivõistlused ujumises
DESCRIPTION:Juhend \nVõistlusosade algusajad \n\nmai 10:00  ja 17:00\nmai 09:00 ja 16:00\nmai 09:00 ja 17:00\n\nVanuseklassid: 2012-2008 ja 2013 ja nooremad \n\n50 ja 100 m distantsidel A ja B finaalid\n200 m distantsidel finaalid\n400\, 800\, 1500 m kiirem vahetus õhtul\nTeateujumised õhtul\n\nStardimaks 14 EUR ind. start\, 28 EUR teateujumine \n 
URL:https://ujumine.ee/event/lati-noorte-ja-juunioride-meistrivoistlused-ujumises/
LOCATION:Riia\, Kipsala\, Kipsalas iela 5\, Riia\, Kipsala\, Latvia
CATEGORIES:Võistlused
END:VEVENT
END:VCALENDAR