BEGIN:VCALENDAR
VERSION:2.0
PRODID:-//Ujumise Spordiklubi - ECPv6.14.0//NONSGML v1.0//EN
CALSCALE:GREGORIAN
METHOD:PUBLISH
X-ORIGINAL-URL:https://ujumine.ee
X-WR-CALDESC:Events for Ujumise Spordiklubi
REFRESH-INTERVAL;VALUE=DURATION:PT1H
X-Robots-Tag:noindex
X-PUBLISHED-TTL:PT1H
BEGIN:VTIMEZONE
TZID:Europe/Moscow
BEGIN:STANDARD
TZOFFSETFROM:+0300
TZOFFSETTO:+0300
TZNAME:MSK
DTSTART:20260101T000000
END:STANDARD
END:VTIMEZONE
BEGIN:VEVENT
DTSTART;VALUE=DATE:20260310
DTEND;VALUE=DATE:20260311
DTSTAMP:20260425T002843
CREATED:20260109T115901Z
LAST-MODIFIED:20260109T115901Z
UID:16556-1773100800-1773187199@ujumine.ee
SUMMARY:EUL ujumistreenerite kutseeksam
DESCRIPTION:EUL kutseeksami info 2026 kevad
URL:https://ujumine.ee/event/eul-ujumistreenerite-kutseeksam/
LOCATION:Audentese Spordiklubi\, Tondi 84\, Tallinn\, 11316\, Estonia
CATEGORIES:Üritused
END:VEVENT
END:VCALENDAR