BEGIN:VCALENDAR
VERSION:2.0
PRODID:-//Ujumise Spordiklubi - ECPv6.14.0//NONSGML v1.0//EN
CALSCALE:GREGORIAN
METHOD:PUBLISH
X-ORIGINAL-URL:https://ujumine.ee
X-WR-CALDESC:Events for Ujumise Spordiklubi
REFRESH-INTERVAL;VALUE=DURATION:PT1H
X-Robots-Tag:noindex
X-PUBLISHED-TTL:PT1H
BEGIN:VTIMEZONE
TZID:Europe/Moscow
BEGIN:STANDARD
TZOFFSETFROM:+0300
TZOFFSETTO:+0300
TZNAME:MSK
DTSTART:20260101T000000
END:STANDARD
END:VTIMEZONE
BEGIN:VEVENT
DTSTART;VALUE=DATE:20260124
DTEND;VALUE=DATE:20260125
DTSTAMP:20260425T034827
CREATED:20251229T063114Z
LAST-MODIFIED:20260125T091027Z
UID:16501-1769212800-1769299199@ujumine.ee
SUMMARY:Speedo Räimeralli I etapp 24.01.2026
DESCRIPTION:Juhend: SIIN \nTulemused: SIIN \nSwimrankings tulemused: SIIN \nLIVE: SIIN
URL:https://ujumine.ee/event/speedo-raimeralli-i-etapp-24-01-2026/
LOCATION:Aura veekeskus (25m)\, Tartu\, Estonia
CATEGORIES:Võistlused
END:VEVENT
BEGIN:VEVENT
DTSTART;TZID=Europe/Moscow:20260124T110000
DTEND;TZID=Europe/Moscow:20260124T170000
DTSTAMP:20260425T034827
CREATED:20251229T064135Z
LAST-MODIFIED:20260127T140924Z
UID:16510-1769252400-1769274000@ujumine.ee
SUMMARY:Audentese Spordiklubi karikavõistlus
DESCRIPTION:Tulemused SIIN \nJuhend
URL:https://ujumine.ee/event/audentese-spordiklubi-karikavoistlus/
LOCATION:Audentese Spordiklubi\, Tondi 84\, Tallinn\, 11316\, Estonia
CATEGORIES:Võistlused
END:VEVENT
END:VCALENDAR