BEGIN:VCALENDAR
VERSION:2.0
PRODID:-//Ujumise Spordiklubi - ECPv6.14.0//NONSGML v1.0//EN
CALSCALE:GREGORIAN
METHOD:PUBLISH
X-ORIGINAL-URL:https://ujumine.ee
X-WR-CALDESC:Events for Ujumise Spordiklubi
REFRESH-INTERVAL;VALUE=DURATION:PT1H
X-Robots-Tag:noindex
X-PUBLISHED-TTL:PT1H
BEGIN:VTIMEZONE
TZID:Europe/Moscow
BEGIN:STANDARD
TZOFFSETFROM:+0300
TZOFFSETTO:+0300
TZNAME:MSK
DTSTART:20260101T000000
END:STANDARD
END:VTIMEZONE
BEGIN:VEVENT
DTSTART;TZID=Europe/Moscow:20260117T180000
DTEND;TZID=Europe/Moscow:20260117T230000
DTSTAMP:20260425T034736
CREATED:20260109T120337Z
LAST-MODIFIED:20260109T120337Z
UID:16559-1768672800-1768690800@ujumine.ee
SUMMARY:EUL Gala 2025
DESCRIPTION:17. jaanuar 2026\, algus kell 18.00\, lõpp 23.00. \n📍Kus? Swissôtel Tallinn\, Tornimäe 3 \nGalaõhtul tunnustame aasta silmapaistvamaid sportlasi ja treenereid ning vaatame tagasi ühele erakordsele aastale Eesti ujumises! \nLisaks autasustamisele on õhtu täis üllatusi ning toimub oksjon\, kus pakkumisele tuleb ka iga ujumisfänni unistus… \nPlaate keerutab DJ Nele Vendt.\nPärast ametlikku osa jätkub õhtu afterparty’ga Club Studios (Sauna tn 1). \n👗 Riietus: pidulik
URL:https://ujumine.ee/event/eul-gala-2025/
CATEGORIES:Üritused
ATTACH;FMTTYPE=image/jpeg:https://ujumine.ee/wp-content/uploads/2026/01/gala.jpg
END:VEVENT
END:VCALENDAR