BEGIN:VCALENDAR
VERSION:2.0
PRODID:-//Ujumise Spordiklubi - ECPv6.14.0//NONSGML v1.0//EN
CALSCALE:GREGORIAN
METHOD:PUBLISH
X-ORIGINAL-URL:https://ujumine.ee
X-WR-CALDESC:Events for Ujumise Spordiklubi
REFRESH-INTERVAL;VALUE=DURATION:PT1H
X-Robots-Tag:noindex
X-PUBLISHED-TTL:PT1H
BEGIN:VTIMEZONE
TZID:Europe/Moscow
BEGIN:STANDARD
TZOFFSETFROM:+0300
TZOFFSETTO:+0300
TZNAME:MSK
DTSTART:20250101T000000
END:STANDARD
END:VTIMEZONE
BEGIN:VEVENT
DTSTART;TZID=Europe/Moscow:20251114T090000
DTEND;TZID=Europe/Moscow:20251116T180000
DTSTAMP:20260425T063949
CREATED:20251024T075957Z
LAST-MODIFIED:20251024T090050Z
UID:16290-1763110800-1763316000@ujumine.ee
SUMMARY:Eesti noorte ja juunioride lühiraja meistrivõistlused
DESCRIPTION:Juhend SIIN\nMajutus: Virumaa Hostelis N\, 13.- P\, 16. november 2025\n\nBussi väljasõidu aeg selgumisel\n\n\nVõistlus Wiru Spordikeskuses\n\nMajutus 3 ööd (13.11-16.11.2025)  ja transport Tartu – Kohtla-Järve – Tartu = 120 EUR\nStardimaks 13 EUR/ start
URL:https://ujumine.ee/event/emv_lr_noor_jun_2026/
LOCATION:Wiru Spordikeskus\, Järveküla tee 44\, Kohtla-Järve\, Ida-Virumaa\, 30321\, Estonia
CATEGORIES:Võistlused
ATTACH;FMTTYPE=image/jpeg:https://ujumine.ee/wp-content/uploads/2024/07/medalid-e1761296151660.jpg
END:VEVENT
END:VCALENDAR