BEGIN:VCALENDAR
VERSION:2.0
PRODID:-//Ujumise Spordiklubi - ECPv6.14.0//NONSGML v1.0//EN
CALSCALE:GREGORIAN
METHOD:PUBLISH
X-ORIGINAL-URL:https://ujumine.ee
X-WR-CALDESC:Events for Ujumise Spordiklubi
REFRESH-INTERVAL;VALUE=DURATION:PT1H
X-Robots-Tag:noindex
X-PUBLISHED-TTL:PT1H
BEGIN:VTIMEZONE
TZID:Europe/Moscow
BEGIN:STANDARD
TZOFFSETFROM:+0300
TZOFFSETTO:+0300
TZNAME:MSK
DTSTART:20250101T000000
END:STANDARD
END:VTIMEZONE
BEGIN:VEVENT
DTSTART;TZID=Europe/Moscow:20251031T090000
DTEND;TZID=Europe/Moscow:20251101T190000
DTSTAMP:20260425T063921
CREATED:20251015T091430Z
LAST-MODIFIED:20251015T091559Z
UID:16268-1761901200-1762023600@ujumine.ee
SUMMARY:13th Int. Sprint Festival Riga Sprint
DESCRIPTION:Juhend SIIN \n31.10 – 01.11.2025 \n\nosa stardid 9:00\nosa finaalid 17:00\nosa stardid 9:00\nosa finaalid 16:00\n\nUSKi elamine hotellis
URL:https://ujumine.ee/event/13th-int-sprint-festival-riga-sprint/
LOCATION:Riia\, Kipsala\, Kipsalas iela 5\, Riia\, Kipsala\, Latvia
CATEGORIES:Võistlused
END:VEVENT
BEGIN:VEVENT
DTSTART;TZID=Europe/Moscow:20251101T110000
DTEND;TZID=Europe/Moscow:20251101T170000
DTSTAMP:20260425T063921
CREATED:20251015T075721Z
LAST-MODIFIED:20251015T081324Z
UID:16257-1761994800-1762016400@ujumine.ee
SUMMARY:EUL noortesarja 4. etapp Kohtla-Järvel
DESCRIPTION:Juhend SIIN \nWiru Spordikeskuse ujulas\, Kohtla-Järvel stardid kl 11:00\, sissepääs alates 09:45 \n\nUjujad s.a. 2011\, 2012\, 2013\nEelregistreerimine 27.10.2025\n\nMahavõtmised kuni 31.10.2025 kl 11:00\n\n\nStardimaks 9 EUR start\nAutasustamisel kohustuslik kanda (klubi) dresse vm üleriideid (WA määrus)\nLõunasöök 7 EUR\, tellimine kuni 24.10.2025 katriin@swimming.ee
URL:https://ujumine.ee/event/eul-noortesarja-4-etapp-kohtla-jarvel/
LOCATION:Wiru Spordikeskus\, Järveküla tee 44\, Kohtla-Järve\, Ida-Virumaa\, 30321\, Estonia
ATTACH;FMTTYPE=image/jpeg:https://ujumine.ee/wp-content/uploads/2022/04/Parimad_12_Susanna_Tammik_Robin_Priks-3-e1760515306269.jpg
END:VEVENT
END:VCALENDAR