BEGIN:VCALENDAR
VERSION:2.0
PRODID:-//Ujumise Spordiklubi - ECPv6.14.0//NONSGML v1.0//EN
CALSCALE:GREGORIAN
METHOD:PUBLISH
X-ORIGINAL-URL:https://ujumine.ee
X-WR-CALDESC:Events for Ujumise Spordiklubi
REFRESH-INTERVAL;VALUE=DURATION:PT1H
X-Robots-Tag:noindex
X-PUBLISHED-TTL:PT1H
BEGIN:VTIMEZONE
TZID:Europe/Moscow
BEGIN:STANDARD
TZOFFSETFROM:+0300
TZOFFSETTO:+0300
TZNAME:MSK
DTSTART:20250101T000000
END:STANDARD
END:VTIMEZONE
BEGIN:VEVENT
DTSTART;TZID=Europe/Moscow:20251021T080000
DTEND;TZID=Europe/Moscow:20251030T170000
DTSTAMP:20260425T063845
CREATED:20250815T104302Z
LAST-MODIFIED:20251224T085054Z
UID:16081-1761033600-1761843600@ujumine.ee
SUMMARY:Calella (Hispaania) laager 21.-30.10.2025
DESCRIPTION:Treener Diana noortesarja rühma treeninglaager Calellas (Kohad täitunud) \n\nLend:\n\nT\, 21. oktoober 15:05 Tallinn – 18:05 Barcelona (Air Baltic – lend BT877)\nN\, 30. oktoober 11:50 Barcelona – 16:50 Tallinn (Air Baltic – lend BT878)\n\n23 kg äraantav pagas + 8 kg käsipagas\nsöögid ja joogid pardal raha eest\n\n\n\n\nNimed 17. septembriks\nHotell Bernat II**** – 3 x päevas toitlustamine\nUjumine kl 7:00-9:00\, 14:30-16:30\nHind lapsevanemale 990 EUR (kogumaksumus 1161.-)\n\nSisaldab: lend\, transfeer lennujaamast hotelli Hispaanias\, majutus 2-3-kohalises toas\, treeningud\nTartumaa Kultuurkapital toetab klubi  700 EUR
URL:https://ujumine.ee/event/calella-laager-2025/
CATEGORIES:Üritused
ATTACH;FMTTYPE=image/jpeg:https://ujumine.ee/wp-content/uploads/2025/08/Calella-2016.06-032-scaled.jpg
END:VEVENT
END:VCALENDAR