BEGIN:VCALENDAR
VERSION:2.0
PRODID:-//Ujumise Spordiklubi - ECPv6.14.0//NONSGML v1.0//EN
CALSCALE:GREGORIAN
METHOD:PUBLISH
X-ORIGINAL-URL:https://ujumine.ee
X-WR-CALDESC:Events for Ujumise Spordiklubi
REFRESH-INTERVAL;VALUE=DURATION:PT1H
X-Robots-Tag:noindex
X-PUBLISHED-TTL:PT1H
BEGIN:VTIMEZONE
TZID:Europe/Moscow
BEGIN:STANDARD
TZOFFSETFROM:+0300
TZOFFSETTO:+0300
TZNAME:MSK
DTSTART:20250101T000000
END:STANDARD
END:VTIMEZONE
BEGIN:VEVENT
DTSTART;TZID=Europe/Moscow:20250501T080000
DTEND;TZID=Europe/Moscow:20250503T180000
DTSTAMP:20260425T162007
CREATED:20250415T075501Z
LAST-MODIFIED:20250415T075501Z
UID:15701-1746086400-1746295200@ujumine.ee
SUMMARY:7. Läti noorte ja juunioride MV 1.-3.05.2025
DESCRIPTION:Juhend \n 
URL:https://ujumine.ee/event/7-lati-noorte-ja-juunioride-mv-1-3-05-2025/
LOCATION:Riia\, Kipsala\, Kipsalas iela 5\, Riia\, Kipsala\, Latvia
CATEGORIES:Võistlused
END:VEVENT
BEGIN:VEVENT
DTSTART;VALUE=DATE:20250503
DTEND;VALUE=DATE:20250504
DTSTAMP:20260425T162007
CREATED:20241216T070132Z
LAST-MODIFIED:20250503T114806Z
UID:15408-1746230400-1746316799@ujumine.ee
SUMMARY:Maitähekesed
DESCRIPTION:3. mail 2025 Aura Keskuses\nJUHEND: SIIN \nSTARTLIST:\n– 2 tulbaline: SIIN\n– 3 tulbaline: SIIN\n \nLive tulemused: Maitähekesed-live\nTulemused pfd: SIIN \n\nRegistreerunud tähestiku järjekorras: SIIN (2.05 kl 14:35)\nRegistreerunud alade ja vanusegruppide kaupa: SIIN(2.05 kl 14:35)\nTeatevõistkonnad (NB! vahetused/rajad võivad muutuda): SIIN (2.05 kl 14:35)\n\nSTARDID kl. 11:30- 14:30\,\nsissepääs 10:15 \nNB! Registreerumine treeneri kaudu!\nKontaktid leiad siit: https://ujumine.ee/treenerid/\n \nPROGRAMM  \n\n25 m vabalt T ja P – 2018\, 2017\, 2016\, 2015\n50 m vabalt T ja P – kuni 2014\, 2013-2011; 2010 ja vanemad\n*harrastusrühmad: kuni 2014\, 2013 ja vanemad (s.j lapsevanemad)\n*AUTASUSTAMINE\n25 m selili T ja P – 2018\, 2017\, 2016\, 2015\n50 m selili T ja P – kuni 2014\, 2013-2011; 2010 ja vanemad\n*harrastusrühmad: kuni 2014\, 2013 ja vanemad (s.j lapsevanemad)\n*AUTASUSTAMINE\n25 m liblikat T ja P – kuni 2015\n50 m liblikat T ja P – kuni 2014; 2013-2011; 2010 ja vanemad (s.j. lapsevanemad)\n*harrastusrühmadele eraldi arvestust ei ole!\n*AUTASUSTAMINE\n25 m rinnuli T ja P – kuni 2015\n50 m rinnuli T ja P – kuni 2014\, 2013-2011; 2010 ja vanemad (s.j. lapsevanemad)\n*harrastusrühmadele eraldi arvestust ei ole!\n*AUTASUSTAMINE\n2 x 25 m vabalt „õe ja venna“ teateujumine (ühe pere lapsed)\nKuni 2015 (vähemalt üks laps); 2014 ja vanemad\n *AUTASUSTAMINE\n2 x 25 m vabalt „lapse ja (vana)vanema“ teateujumine\nVanuseklass lapse sünniaasta järgi: kuni s.a 2015; 2014 ja vanemad\n*AUTASUSTAMINE\n\nOSALUSTASU – 10 EUR  – tasuda sularahas enne võistlust treeneri kätte\, ka ainult teateujujad \nAUTASUSTAMINE – iga ala ja vanuseklassi kolmele kiiremale medal + auhind. Kõigile teatevõistkondadele auhind! \n 
URL:https://ujumine.ee/event/maitahekesed/
LOCATION:Tartu\, Sadama 1\, Tartu\, Tartumaa\, 51004\, Estonia
CATEGORIES:Võistlused
ORGANIZER;CN="Ujumise Spordiklubi":MAILTO:info@ujumine.ee
END:VEVENT
END:VCALENDAR