BEGIN:VCALENDAR
VERSION:2.0
PRODID:-//Ujumise Spordiklubi - ECPv6.14.0//NONSGML v1.0//EN
CALSCALE:GREGORIAN
METHOD:PUBLISH
X-ORIGINAL-URL:https://ujumine.ee
X-WR-CALDESC:Events for Ujumise Spordiklubi
REFRESH-INTERVAL;VALUE=DURATION:PT1H
X-Robots-Tag:noindex
X-PUBLISHED-TTL:PT1H
BEGIN:VTIMEZONE
TZID:Europe/Moscow
BEGIN:STANDARD
TZOFFSETFROM:+0300
TZOFFSETTO:+0300
TZNAME:MSK
DTSTART:20250101T000000
END:STANDARD
END:VTIMEZONE
BEGIN:VEVENT
DTSTART;TZID=Europe/Moscow:20250207T080000
DTEND;TZID=Europe/Moscow:20250207T170000
DTSTAMP:20260425T212415
CREATED:20250131T114237Z
LAST-MODIFIED:20250131T115426Z
UID:15583-1738915200-1738947600@ujumine.ee
SUMMARY:USKi nimeliste ujumismütside tellimine
DESCRIPTION:Soovijatel on võimalus tellida NIMELISED Ujumise Spordiklubi ujumismütsid. \nUjumismütsi mõlemal pool on:  Ujumise Spordiklubi LOGO +  soovitud NIMI mütsile (EESNIMI või PERENIMI). \nMiinimum kogus on 2 sama nimega ujumismütsi. \nKahe mütsi hind on 22 EURi (iga lisamütsi tasu on 11 EUR\, s.o. 3 mütsi = 33 EUR jne). \nMütside tellimise tähtaeg 7. veebruar 2025. \nTellimiseks täida\, palun\, ankeet SIIN \nAnkeedi täitnutele saadame arve e-postile\, maksetähtaeg 11. veebruar 2025. \nMütside ooteaeg alates tellimuse esitamisest kuni 6 nädalat. \n\nKohe olemas valged (USKi logo mõlemal küljel) a´6 EUR ja mustad (USKi logo ja Eesti lipp) a`7 EUR ujumismütsid
URL:https://ujumine.ee/event/uski-nimeliste-ujumismutside-tellimine/
CATEGORIES:Üritused
ATTACH;FMTTYPE=image/jpeg:https://ujumine.ee/wp-content/uploads/2025/01/Artjom_Alteberg_Zirk_mutsiga-scaled-e1738322333916.jpg
END:VEVENT
END:VCALENDAR