BEGIN:VCALENDAR
VERSION:2.0
PRODID:-//Ujumise Spordiklubi - ECPv6.14.0//NONSGML v1.0//EN
CALSCALE:GREGORIAN
METHOD:PUBLISH
X-WR-CALNAME:Ujumise Spordiklubi
X-ORIGINAL-URL:https://ujumine.ee
X-WR-CALDESC:Events for Ujumise Spordiklubi
REFRESH-INTERVAL;VALUE=DURATION:PT1H
X-Robots-Tag:noindex
X-PUBLISHED-TTL:PT1H
BEGIN:VTIMEZONE
TZID:Europe/Moscow
BEGIN:STANDARD
TZOFFSETFROM:+0300
TZOFFSETTO:+0300
TZNAME:MSK
DTSTART:20240101T000000
END:STANDARD
END:VTIMEZONE
BEGIN:VEVENT
DTSTART;TZID=Europe/Moscow:20241115T090000
DTEND;TZID=Europe/Moscow:20241117T180000
DTSTAMP:20260426T022355
CREATED:20241014T195032Z
LAST-MODIFIED:20241114T084611Z
UID:15087-1731661200-1731866400@ujumine.ee
SUMMARY:Eesti juunioride ja noorte meistrivõistlused Sõle ujulas
DESCRIPTION:Eesti juunioride ja noorte meistrivõistlused Sõle ujulas \nEesti absoluudi MV 800 m vabalt meestele  ja 1500 m vabalt naistele \n\nLIVE tulemused SIIN\nStardiprotokoll SIIN\nEntry list SIIN\n\nJUHEND (Uuendatud 15.okt.2024) \nVõistluste ajad osadel: \n\nR\, 15.11.2024 – stardid 09:30/ soojendus 08:30\nR\, 15.11.2024 – stardid 17:00/ soojendus 16:00\nL\, 16.11.2024 – stardid 09:30/ soojendus 08:30\nL\, 16.11.2024 – stardid 17:00/ soojendus 16:00\nP\, 17.11.2024 – stardid 09:30/ soojendus 08:30\nP\, 17.11.2024 – stardid 16:00/ soojendus 15:00\n\n\nMajutus 14.-17.11.2024 Go Hotell Snellis (koht kaheses toas  3 ööpeva/ in = 81 EUR). \nStardimaks 13 EUR \n\nRegamine 10.11.2024\, \nMahavõtmised kuni 48 tundi enne võistlust (? kuni K\, 13.11.2024 kl 09.30)\nStardiprotokoll N\, 14.11.2024\, kl 9:30\n\n 
URL:https://ujumine.ee/event/eesti-juunioride-ja-noorte-meistrivoistlused-sole-ujulas/
LOCATION:Sõle Spordikeskus\, Sõle 40a\, Tallinn\, 10317
CATEGORIES:Võistlused
ATTACH;FMTTYPE=image/jpeg:https://ujumine.ee/wp-content/uploads/2024/07/medalid-e1761296151660.jpg
END:VEVENT
END:VCALENDAR